BEGIN:VCALENDAR
VERSION:2.0
PRODID:-//Lyric Sails | St Croix sunset sail - ECPv6.13.2.1//NONSGML v1.0//EN
CALSCALE:GREGORIAN
METHOD:PUBLISH
X-WR-CALNAME:Lyric Sails | St Croix sunset sail
X-ORIGINAL-URL:https://lyricsails.com
X-WR-CALDESC:Events for Lyric Sails | St Croix sunset sail
REFRESH-INTERVAL;VALUE=DURATION:PT1H
X-Robots-Tag:noindex
X-PUBLISHED-TTL:PT1H
BEGIN:VTIMEZONE
TZID:America/Puerto_Rico
BEGIN:STANDARD
TZOFFSETFROM:-0400
TZOFFSETTO:-0400
TZNAME:AST
DTSTART:20260101T000000
END:STANDARD
END:VTIMEZONE
BEGIN:VEVENT
DTSTART;TZID=America/Puerto_Rico:20260523T170000
DTEND;TZID=America/Puerto_Rico:20260523T193000
DTSTAMP:20260425T092546
CREATED:20251025T155152Z
LAST-MODIFIED:20251025T155152Z
UID:10663-1779555600-1779564600@lyricsails.com
SUMMARY:Live Music Sunset Sail w/ Mercy Child
DESCRIPTION:Mercy Child combines soulful vocals and finger-on-the-pulse guitar playing to his powerful live performances. Influenced by classic rock\, blues\, jazz and folk from the 60’s to present – he performs over 350 song titles\, including 6 original CDs. His string bending capabilities provide depth and originality to familiar covers\, leaving the audience wanting more.
URL:https://lyricsails.com/event/live-music-sunset-sail-w-mercy-child-136/
END:VEVENT
BEGIN:VEVENT
DTSTART;TZID=America/Puerto_Rico:20260524T170000
DTEND;TZID=America/Puerto_Rico:20260524T193000
DTSTAMP:20260425T092546
CREATED:20251025T155153Z
LAST-MODIFIED:20251025T155153Z
UID:10664-1779642000-1779651000@lyricsails.com
SUMMARY:Live Music Sunset Sail w/ Steve Katz
DESCRIPTION:Enjoy the instrumental acoustic guitar sounds of accomplished St. Croix musician\, Steve Katz. He can be seen at just about every venue on the island\, playing his fusion of Classical\, Spanish\, Latin and Middle Eastern music. Katz has played with many well-known musicians around the world\, and brings his own diverse experiences into his unique compositions. In addition to regular appearances around St. Croix\, Katz is also available for special events and private concerts. Please visit stevenkatzmusic.com for more information on where to purchase CDs\, music downloads\, his upcoming gigs and more about the music.
URL:https://lyricsails.com/event/live-music-sunset-sail-w-steve-katz-34/
END:VEVENT
BEGIN:VEVENT
DTSTART;TZID=America/Puerto_Rico:20260525T170000
DTEND;TZID=America/Puerto_Rico:20260525T193000
DTSTAMP:20260425T092546
CREATED:20251025T155153Z
LAST-MODIFIED:20251025T155153Z
UID:10665-1779728400-1779737400@lyricsails.com
SUMMARY:Live Music Sunset Sail w/ Mekiel Rueben
DESCRIPTION:Mekiel Reuben Saxophonist Extraordinaire recording artist\, former sax man with legendary Ike Turner and the Kings of Rhythms recorded live 2002 Montreux jazz festival\, Switzerland\, toured with Eek a Mouse\, The Itals and Ras Michael.(Los Angeles reggae scene) Back up band for Marcia Griffith\, Leroy Smart\, Daddy Uroy\, and a host of others You can find his music on YouTube\, Spotify\, iTunes and Amazon.
URL:https://lyricsails.com/event/live-music-sunset-sail-w-mekiel-rueben-68/
END:VEVENT
BEGIN:VEVENT
DTSTART;TZID=America/Puerto_Rico:20260526T170000
DTEND;TZID=America/Puerto_Rico:20260526T193000
DTSTAMP:20260425T092546
CREATED:20251025T155153Z
LAST-MODIFIED:20251025T155153Z
UID:10666-1779814800-1779823800@lyricsails.com
SUMMARY:Live Music Sunset Sail w/ Mercy Child
DESCRIPTION:Mercy Child combines soulful vocals and finger-on-the-pulse guitar playing to his powerful live performances. Influenced by classic rock\, blues\, jazz and folk from the 60’s to present – he performs over 350 song titles\, including 6 original CDs. His string bending capabilities provide depth and originality to familiar covers\, leaving the audience wanting more.
URL:https://lyricsails.com/event/live-music-sunset-sail-w-mercy-child-137/
END:VEVENT
BEGIN:VEVENT
DTSTART;TZID=America/Puerto_Rico:20260527T170000
DTEND;TZID=America/Puerto_Rico:20260527T193000
DTSTAMP:20260425T092546
CREATED:20251025T155154Z
LAST-MODIFIED:20251025T155154Z
UID:10667-1779901200-1779910200@lyricsails.com
SUMMARY:Live Music w/ Kim Wentzel
DESCRIPTION:Kim Wentzel is an acoustic guitarist and vocalist performing at various venues on St Croix.  Her musical style varies from classic rock to contemporary hits\, focusing on female vocalists  such as Fleetwood Mac\, Dua Lipa\, Patty Griffin\, Tracy Chapman and Indigo Girls.  With a blend of folk\, rock\, and country favorites\, ranging from ballands to dance hits\, her music can complement any event.
URL:https://lyricsails.com/event/live-music-w-kim-wentzel-39/
END:VEVENT
BEGIN:VEVENT
DTSTART;TZID=America/Puerto_Rico:20260528T170000
DTEND;TZID=America/Puerto_Rico:20260528T193000
DTSTAMP:20260425T092546
CREATED:20251025T155352Z
LAST-MODIFIED:20251025T155352Z
UID:10668-1779987600-1779996600@lyricsails.com
SUMMARY:Live Music Sunset Sail w/ Danny Draher
DESCRIPTION:
URL:https://lyricsails.com/event/live-music-sunset-sail-w-danny-draher-29/
END:VEVENT
BEGIN:VEVENT
DTSTART;TZID=America/Puerto_Rico:20260529T170000
DTEND;TZID=America/Puerto_Rico:20260529T193000
DTSTAMP:20260425T092546
CREATED:20251025T155353Z
LAST-MODIFIED:20251025T155353Z
UID:10669-1780074000-1780083000@lyricsails.com
SUMMARY:Live Music Sunset Sail w/ Gyasi Clarke
DESCRIPTION:St Croix native Gyasi Clarke plays acoustic guitar accompanied by his melodic\, soulful vocals. One of the island’s favorite young musicians!
URL:https://lyricsails.com/event/live-music-sunset-sail-w-gyasi-clarke-76/
END:VEVENT
BEGIN:VEVENT
DTSTART;TZID=America/Puerto_Rico:20260530T170000
DTEND;TZID=America/Puerto_Rico:20260530T193000
DTSTAMP:20260425T092546
CREATED:20251025T155353Z
LAST-MODIFIED:20251025T155353Z
UID:10670-1780160400-1780169400@lyricsails.com
SUMMARY:Live Music Sunset Sail w/ Mercy Child
DESCRIPTION:Mercy Child combines soulful vocals and finger-on-the-pulse guitar playing to his powerful live performances. Influenced by classic rock\, blues\, jazz and folk from the 60’s to present – he performs over 350 song titles\, including 6 original CDs. His string bending capabilities provide depth and originality to familiar covers\, leaving the audience wanting more.
URL:https://lyricsails.com/event/live-music-sunset-sail-w-mercy-child-138/
END:VEVENT
BEGIN:VEVENT
DTSTART;TZID=America/Puerto_Rico:20260531T170000
DTEND;TZID=America/Puerto_Rico:20260531T193000
DTSTAMP:20260425T092546
CREATED:20251025T155353Z
LAST-MODIFIED:20251025T155353Z
UID:10671-1780246800-1780255800@lyricsails.com
SUMMARY:Live Music Sunset Sail w/ Adrian
DESCRIPTION:Adrian plays high energy folk/electronica guitar that is fun to listen and dance to!
URL:https://lyricsails.com/event/live-music-sunset-sail-w-adrian-35/
END:VEVENT
BEGIN:VEVENT
DTSTART;TZID=America/Puerto_Rico:20260601T170000
DTEND;TZID=America/Puerto_Rico:20260601T193000
DTSTAMP:20260425T092546
CREATED:20251025T155354Z
LAST-MODIFIED:20251025T155354Z
UID:10672-1780333200-1780342200@lyricsails.com
SUMMARY:Live Music Sunset Sail w/ Mekiel Rueben
DESCRIPTION:Mekiel Reuben Saxophonist Extraordinaire recording artist\, former sax man with legendary Ike Turner and the Kings of Rhythms recorded live 2002 Montreux jazz festival\, Switzerland\, toured with Eek a Mouse\, The Itals and Ras Michael.(Los Angeles reggae scene) Back up band for Marcia Griffith\, Leroy Smart\, Daddy Uroy\, and a host of others You can find his music on YouTube\, Spotify\, iTunes and Amazon.
URL:https://lyricsails.com/event/live-music-sunset-sail-w-mekiel-rueben-69/
END:VEVENT
BEGIN:VEVENT
DTSTART;TZID=America/Puerto_Rico:20260602T170000
DTEND;TZID=America/Puerto_Rico:20260602T193000
DTSTAMP:20260425T092546
CREATED:20251025T155553Z
LAST-MODIFIED:20251025T155553Z
UID:10673-1780419600-1780428600@lyricsails.com
SUMMARY:Live Music Sunset Sail w/ Mercy Child
DESCRIPTION:Mercy Child combines soulful vocals and finger-on-the-pulse guitar playing to his powerful live performances. Influenced by classic rock\, blues\, jazz and folk from the 60’s to present – he performs over 350 song titles\, including 6 original CDs. His string bending capabilities provide depth and originality to familiar covers\, leaving the audience wanting more.
URL:https://lyricsails.com/event/live-music-sunset-sail-w-mercy-child-139/
END:VEVENT
BEGIN:VEVENT
DTSTART;TZID=America/Puerto_Rico:20260603T170000
DTEND;TZID=America/Puerto_Rico:20260603T193000
DTSTAMP:20260425T092546
CREATED:20251025T155553Z
LAST-MODIFIED:20251025T155553Z
UID:10674-1780506000-1780515000@lyricsails.com
SUMMARY:Live Music w/ Kim Wentzel
DESCRIPTION:Kim Wentzel is an acoustic guitarist and vocalist performing at various venues on St Croix.  Her musical style varies from classic rock to contemporary hits\, focusing on female vocalists  such as Fleetwood Mac\, Dua Lipa\, Patty Griffin\, Tracy Chapman and Indigo Girls.  With a blend of folk\, rock\, and country favorites\, ranging from ballands to dance hits\, her music can complement any event.
URL:https://lyricsails.com/event/live-music-w-kim-wentzel-40/
END:VEVENT
BEGIN:VEVENT
DTSTART;TZID=America/Puerto_Rico:20260604T170000
DTEND;TZID=America/Puerto_Rico:20260604T193000
DTSTAMP:20260425T092546
CREATED:20251025T155553Z
LAST-MODIFIED:20251025T155553Z
UID:10675-1780592400-1780601400@lyricsails.com
SUMMARY:Live Music Sunset Sail w/ Pete Leske
DESCRIPTION:Pete plays a soulful mix of eclectic favorites from blues to rock to pop.
URL:https://lyricsails.com/event/live-music-sunset-sail-w-pete-leske-17/
END:VEVENT
BEGIN:VEVENT
DTSTART;TZID=America/Puerto_Rico:20260605T170000
DTEND;TZID=America/Puerto_Rico:20260605T193000
DTSTAMP:20260425T092546
CREATED:20251025T155553Z
LAST-MODIFIED:20251025T155553Z
UID:10676-1780678800-1780687800@lyricsails.com
SUMMARY:Live Music Sunset Sail w/ Gyasi Clarke
DESCRIPTION:St Croix native Gyasi Clarke plays acoustic guitar accompanied by his melodic\, soulful vocals. One of the island’s favorite young musicians!
URL:https://lyricsails.com/event/live-music-sunset-sail-w-gyasi-clarke-77/
END:VEVENT
BEGIN:VEVENT
DTSTART;TZID=America/Puerto_Rico:20260606T170000
DTEND;TZID=America/Puerto_Rico:20260606T193000
DTSTAMP:20260425T092546
CREATED:20251025T155554Z
LAST-MODIFIED:20251025T155554Z
UID:10677-1780765200-1780774200@lyricsails.com
SUMMARY:Live Music Sunset Sail w/ Mercy Child
DESCRIPTION:Mercy Child combines soulful vocals and finger-on-the-pulse guitar playing to his powerful live performances. Influenced by classic rock\, blues\, jazz and folk from the 60’s to present – he performs over 350 song titles\, including 6 original CDs. His string bending capabilities provide depth and originality to familiar covers\, leaving the audience wanting more.
URL:https://lyricsails.com/event/live-music-sunset-sail-w-mercy-child-140/
END:VEVENT
BEGIN:VEVENT
DTSTART;TZID=America/Puerto_Rico:20260607T170000
DTEND;TZID=America/Puerto_Rico:20260607T193000
DTSTAMP:20260425T092546
CREATED:20251025T155753Z
LAST-MODIFIED:20251025T155753Z
UID:10678-1780851600-1780860600@lyricsails.com
SUMMARY:Live Music Sunset Sail w/ Steve Katz
DESCRIPTION:Enjoy the instrumental acoustic guitar sounds of accomplished St. Croix musician\, Steve Katz. He can be seen at just about every venue on the island\, playing his fusion of Classical\, Spanish\, Latin and Middle Eastern music. Katz has played with many well-known musicians around the world\, and brings his own diverse experiences into his unique compositions. In addition to regular appearances around St. Croix\, Katz is also available for special events and private concerts. Please visit stevenkatzmusic.com for more information on where to purchase CDs\, music downloads\, his upcoming gigs and more about the music.
URL:https://lyricsails.com/event/live-music-sunset-sail-w-steve-katz-35/
END:VEVENT
BEGIN:VEVENT
DTSTART;TZID=America/Puerto_Rico:20260608T170000
DTEND;TZID=America/Puerto_Rico:20260608T193000
DTSTAMP:20260425T092546
CREATED:20251025T155753Z
LAST-MODIFIED:20251025T155753Z
UID:10679-1780938000-1780947000@lyricsails.com
SUMMARY:Live Music Sunset Sail w/ Mekiel Rueben
DESCRIPTION:Mekiel Reuben Saxophonist Extraordinaire recording artist\, former sax man with legendary Ike Turner and the Kings of Rhythms recorded live 2002 Montreux jazz festival\, Switzerland\, toured with Eek a Mouse\, The Itals and Ras Michael.(Los Angeles reggae scene) Back up band for Marcia Griffith\, Leroy Smart\, Daddy Uroy\, and a host of others You can find his music on YouTube\, Spotify\, iTunes and Amazon.
URL:https://lyricsails.com/event/live-music-sunset-sail-w-mekiel-rueben-70/
END:VEVENT
BEGIN:VEVENT
DTSTART;TZID=America/Puerto_Rico:20260609T170000
DTEND;TZID=America/Puerto_Rico:20260609T193000
DTSTAMP:20260425T092546
CREATED:20251025T155753Z
LAST-MODIFIED:20251025T155753Z
UID:10680-1781024400-1781033400@lyricsails.com
SUMMARY:Live Music Sunset Sail w/ Mercy Child
DESCRIPTION:Mercy Child combines soulful vocals and finger-on-the-pulse guitar playing to his powerful live performances. Influenced by classic rock\, blues\, jazz and folk from the 60’s to present – he performs over 350 song titles\, including 6 original CDs. His string bending capabilities provide depth and originality to familiar covers\, leaving the audience wanting more.
URL:https://lyricsails.com/event/live-music-sunset-sail-w-mercy-child-141/
END:VEVENT
BEGIN:VEVENT
DTSTART;TZID=America/Puerto_Rico:20260610T170000
DTEND;TZID=America/Puerto_Rico:20260610T193000
DTSTAMP:20260425T092546
CREATED:20251025T155753Z
LAST-MODIFIED:20251025T155753Z
UID:10681-1781110800-1781119800@lyricsails.com
SUMMARY:Live Music w/ Kim Wentzel
DESCRIPTION:Kim Wentzel is an acoustic guitarist and vocalist performing at various venues on St Croix.  Her musical style varies from classic rock to contemporary hits\, focusing on female vocalists  such as Fleetwood Mac\, Dua Lipa\, Patty Griffin\, Tracy Chapman and Indigo Girls.  With a blend of folk\, rock\, and country favorites\, ranging from ballands to dance hits\, her music can complement any event.
URL:https://lyricsails.com/event/live-music-w-kim-wentzel-41/
END:VEVENT
BEGIN:VEVENT
DTSTART;TZID=America/Puerto_Rico:20260611T170000
DTEND;TZID=America/Puerto_Rico:20260611T193000
DTSTAMP:20260425T092546
CREATED:20251025T155754Z
LAST-MODIFIED:20251025T155754Z
UID:10682-1781197200-1781206200@lyricsails.com
SUMMARY:Live Music Sunset Sail w/ Danny Draher
DESCRIPTION:
URL:https://lyricsails.com/event/live-music-sunset-sail-w-danny-draher-30/
END:VEVENT
BEGIN:VEVENT
DTSTART;TZID=America/Puerto_Rico:20260612T170000
DTEND;TZID=America/Puerto_Rico:20260612T193000
DTSTAMP:20260425T092546
CREATED:20251025T155953Z
LAST-MODIFIED:20251025T155953Z
UID:10683-1781283600-1781292600@lyricsails.com
SUMMARY:Live Music Sunset Sail w/ Gyasi Clarke
DESCRIPTION:St Croix native Gyasi Clarke plays acoustic guitar accompanied by his melodic\, soulful vocals. One of the island’s favorite young musicians!
URL:https://lyricsails.com/event/live-music-sunset-sail-w-gyasi-clarke-78/
END:VEVENT
BEGIN:VEVENT
DTSTART;TZID=America/Puerto_Rico:20260613T170000
DTEND;TZID=America/Puerto_Rico:20260613T193000
DTSTAMP:20260425T092546
CREATED:20251025T155953Z
LAST-MODIFIED:20251025T155953Z
UID:10684-1781370000-1781379000@lyricsails.com
SUMMARY:Live Music Sunset Sail w/ Mercy Child
DESCRIPTION:Mercy Child combines soulful vocals and finger-on-the-pulse guitar playing to his powerful live performances. Influenced by classic rock\, blues\, jazz and folk from the 60’s to present – he performs over 350 song titles\, including 6 original CDs. His string bending capabilities provide depth and originality to familiar covers\, leaving the audience wanting more.
URL:https://lyricsails.com/event/live-music-sunset-sail-w-mercy-child-142/
END:VEVENT
BEGIN:VEVENT
DTSTART;TZID=America/Puerto_Rico:20260614T170000
DTEND;TZID=America/Puerto_Rico:20260614T193000
DTSTAMP:20260425T092546
CREATED:20251025T155953Z
LAST-MODIFIED:20251025T155953Z
UID:10685-1781456400-1781465400@lyricsails.com
SUMMARY:Live Music Sunset Sail w/ Adrian
DESCRIPTION:Adrian plays high energy folk/electronica guitar that is fun to listen and dance to!
URL:https://lyricsails.com/event/live-music-sunset-sail-w-adrian-36/
END:VEVENT
BEGIN:VEVENT
DTSTART;TZID=America/Puerto_Rico:20260615T170000
DTEND;TZID=America/Puerto_Rico:20260615T193000
DTSTAMP:20260425T092546
CREATED:20251025T155954Z
LAST-MODIFIED:20251025T155954Z
UID:10686-1781542800-1781551800@lyricsails.com
SUMMARY:Live Music Sunset Sail w/ Mekiel Rueben
DESCRIPTION:Mekiel Reuben Saxophonist Extraordinaire recording artist\, former sax man with legendary Ike Turner and the Kings of Rhythms recorded live 2002 Montreux jazz festival\, Switzerland\, toured with Eek a Mouse\, The Itals and Ras Michael.(Los Angeles reggae scene) Back up band for Marcia Griffith\, Leroy Smart\, Daddy Uroy\, and a host of others You can find his music on YouTube\, Spotify\, iTunes and Amazon.
URL:https://lyricsails.com/event/live-music-sunset-sail-w-mekiel-rueben-71/
END:VEVENT
BEGIN:VEVENT
DTSTART;TZID=America/Puerto_Rico:20260616T170000
DTEND;TZID=America/Puerto_Rico:20260616T193000
DTSTAMP:20260425T092546
CREATED:20251025T155954Z
LAST-MODIFIED:20251025T155954Z
UID:10687-1781629200-1781638200@lyricsails.com
SUMMARY:Live Music Sunset Sail w/ Mercy Child
DESCRIPTION:Mercy Child combines soulful vocals and finger-on-the-pulse guitar playing to his powerful live performances. Influenced by classic rock\, blues\, jazz and folk from the 60’s to present – he performs over 350 song titles\, including 6 original CDs. His string bending capabilities provide depth and originality to familiar covers\, leaving the audience wanting more.
URL:https://lyricsails.com/event/live-music-sunset-sail-w-mercy-child-143/
END:VEVENT
BEGIN:VEVENT
DTSTART;TZID=America/Puerto_Rico:20260617T170000
DTEND;TZID=America/Puerto_Rico:20260617T193000
DTSTAMP:20260425T092546
CREATED:20251025T160153Z
LAST-MODIFIED:20251025T160153Z
UID:10688-1781715600-1781724600@lyricsails.com
SUMMARY:Live Music w/ Kim Wentzel
DESCRIPTION:Kim Wentzel is an acoustic guitarist and vocalist performing at various venues on St Croix.  Her musical style varies from classic rock to contemporary hits\, focusing on female vocalists  such as Fleetwood Mac\, Dua Lipa\, Patty Griffin\, Tracy Chapman and Indigo Girls.  With a blend of folk\, rock\, and country favorites\, ranging from ballands to dance hits\, her music can complement any event.
URL:https://lyricsails.com/event/live-music-w-kim-wentzel-42/
END:VEVENT
BEGIN:VEVENT
DTSTART;TZID=America/Puerto_Rico:20260618T170000
DTEND;TZID=America/Puerto_Rico:20260618T193000
DTSTAMP:20260425T092546
CREATED:20251025T160153Z
LAST-MODIFIED:20251025T160153Z
UID:10689-1781802000-1781811000@lyricsails.com
SUMMARY:Live Music Sunset Sail w/ Pete Leske
DESCRIPTION:Pete plays a soulful mix of eclectic favorites from blues to rock to pop.
URL:https://lyricsails.com/event/live-music-sunset-sail-w-pete-leske-18/
END:VEVENT
BEGIN:VEVENT
DTSTART;TZID=America/Puerto_Rico:20260619T170000
DTEND;TZID=America/Puerto_Rico:20260619T193000
DTSTAMP:20260425T092546
CREATED:20251025T160153Z
LAST-MODIFIED:20251025T160153Z
UID:10690-1781888400-1781897400@lyricsails.com
SUMMARY:Live Music Sunset Sail w/ Gyasi Clarke
DESCRIPTION:St Croix native Gyasi Clarke plays acoustic guitar accompanied by his melodic\, soulful vocals. One of the island’s favorite young musicians!
URL:https://lyricsails.com/event/live-music-sunset-sail-w-gyasi-clarke-79/
END:VEVENT
BEGIN:VEVENT
DTSTART;TZID=America/Puerto_Rico:20260620T170000
DTEND;TZID=America/Puerto_Rico:20260620T193000
DTSTAMP:20260425T092546
CREATED:20251025T160153Z
LAST-MODIFIED:20251025T160153Z
UID:10691-1781974800-1781983800@lyricsails.com
SUMMARY:Live Music Sunset Sail w/ Mercy Child
DESCRIPTION:Mercy Child combines soulful vocals and finger-on-the-pulse guitar playing to his powerful live performances. Influenced by classic rock\, blues\, jazz and folk from the 60’s to present – he performs over 350 song titles\, including 6 original CDs. His string bending capabilities provide depth and originality to familiar covers\, leaving the audience wanting more.
URL:https://lyricsails.com/event/live-music-sunset-sail-w-mercy-child-144/
END:VEVENT
BEGIN:VEVENT
DTSTART;TZID=America/Puerto_Rico:20260621T170000
DTEND;TZID=America/Puerto_Rico:20260621T193000
DTSTAMP:20260425T092546
CREATED:20251025T160154Z
LAST-MODIFIED:20251025T160154Z
UID:10692-1782061200-1782070200@lyricsails.com
SUMMARY:Live Music Sunset Sail w/ Steve Katz
DESCRIPTION:Enjoy the instrumental acoustic guitar sounds of accomplished St. Croix musician\, Steve Katz. He can be seen at just about every venue on the island\, playing his fusion of Classical\, Spanish\, Latin and Middle Eastern music. Katz has played with many well-known musicians around the world\, and brings his own diverse experiences into his unique compositions. In addition to regular appearances around St. Croix\, Katz is also available for special events and private concerts. Please visit stevenkatzmusic.com for more information on where to purchase CDs\, music downloads\, his upcoming gigs and more about the music.
URL:https://lyricsails.com/event/live-music-sunset-sail-w-steve-katz-36/
END:VEVENT
END:VCALENDAR