BEGIN:VCALENDAR
VERSION:2.0
PRODID:-//Lyric Sails | St Croix sunset sail - ECPv6.13.2.1//NONSGML v1.0//EN
CALSCALE:GREGORIAN
METHOD:PUBLISH
X-WR-CALNAME:Lyric Sails | St Croix sunset sail
X-ORIGINAL-URL:https://lyricsails.com
X-WR-CALDESC:Events for Lyric Sails | St Croix sunset sail
REFRESH-INTERVAL;VALUE=DURATION:PT1H
X-Robots-Tag:noindex
X-PUBLISHED-TTL:PT1H
BEGIN:VTIMEZONE
TZID:America/Puerto_Rico
BEGIN:STANDARD
TZOFFSETFROM:-0400
TZOFFSETTO:-0400
TZNAME:AST
DTSTART:20260101T000000
END:STANDARD
END:VTIMEZONE
BEGIN:VEVENT
DTSTART;TZID=America/Puerto_Rico:20260207T163000
DTEND;TZID=America/Puerto_Rico:20260207T190000
DTSTAMP:20260425T064511
CREATED:20251025T145317Z
LAST-MODIFIED:20251025T145317Z
UID:10559-1770481800-1770490800@lyricsails.com
SUMMARY:Live Music Sunset Sail w/ Mercy Child
DESCRIPTION:Mercy Child combines soulful vocals and finger-on-the-pulse guitar playing to his powerful live performances. Influenced by classic rock\, blues\, jazz and folk from the 60’s to present – he performs over 350 song titles\, including 6 original CDs. His string bending capabilities provide depth and originality to familiar covers\, leaving the audience wanting more.
URL:https://lyricsails.com/event/live-music-sunset-sail-w-mercy-child-106/
END:VEVENT
BEGIN:VEVENT
DTSTART;TZID=America/Puerto_Rico:20260206T163000
DTEND;TZID=America/Puerto_Rico:20260206T190000
DTSTAMP:20260425T064511
CREATED:20251025T145118Z
LAST-MODIFIED:20251025T145118Z
UID:10558-1770395400-1770404400@lyricsails.com
SUMMARY:Live Music Sunset Sail w/ Gyasi Clarke
DESCRIPTION:St Croix native Gyasi Clarke plays acoustic guitar accompanied by his melodic\, soulful vocals. One of the island’s favorite young musicians!
URL:https://lyricsails.com/event/live-music-sunset-sail-w-gyasi-clarke-60/
END:VEVENT
BEGIN:VEVENT
DTSTART;TZID=America/Puerto_Rico:20260205T163000
DTEND;TZID=America/Puerto_Rico:20260205T190000
DTSTAMP:20260425T064511
CREATED:20251025T145118Z
LAST-MODIFIED:20251025T145118Z
UID:10557-1770309000-1770318000@lyricsails.com
SUMMARY:Live Music Sunset Sail w/ Pete Leske
DESCRIPTION:Pete plays a soulful mix of eclectic favorites from blues to rock to pop.
URL:https://lyricsails.com/event/live-music-sunset-sail-w-pete-leske-9/
END:VEVENT
BEGIN:VEVENT
DTSTART;TZID=America/Puerto_Rico:20260204T163000
DTEND;TZID=America/Puerto_Rico:20260204T190000
DTSTAMP:20260425T064511
CREATED:20251025T145118Z
LAST-MODIFIED:20251025T145118Z
UID:10556-1770222600-1770231600@lyricsails.com
SUMMARY:Live Music w/ Kim Wentzel
DESCRIPTION:Kim Wentzel is an acoustic guitarist and vocalist performing at various venues on St Croix.  Her musical style varies from classic rock to contemporary hits\, focusing on female vocalists  such as Fleetwood Mac\, Dua Lipa\, Patty Griffin\, Tracy Chapman and Indigo Girls.  With a blend of folk\, rock\, and country favorites\, ranging from ballands to dance hits\, her music can complement any event.
URL:https://lyricsails.com/event/live-music-w-kim-wentzel-23/
END:VEVENT
BEGIN:VEVENT
DTSTART;TZID=America/Puerto_Rico:20260203T163000
DTEND;TZID=America/Puerto_Rico:20260203T190000
DTSTAMP:20260425T064511
CREATED:20251025T145117Z
LAST-MODIFIED:20251025T145117Z
UID:10555-1770136200-1770145200@lyricsails.com
SUMMARY:Live Music Sunset Sail w/ Mercy Child
DESCRIPTION:Mercy Child combines soulful vocals and finger-on-the-pulse guitar playing to his powerful live performances. Influenced by classic rock\, blues\, jazz and folk from the 60’s to present – he performs over 350 song titles\, including 6 original CDs. His string bending capabilities provide depth and originality to familiar covers\, leaving the audience wanting more.
URL:https://lyricsails.com/event/live-music-sunset-sail-w-mercy-child-105/
END:VEVENT
BEGIN:VEVENT
DTSTART;TZID=America/Puerto_Rico:20260202T163000
DTEND;TZID=America/Puerto_Rico:20260202T190000
DTSTAMP:20260425T064511
CREATED:20251025T145117Z
LAST-MODIFIED:20251025T145117Z
UID:10554-1770049800-1770058800@lyricsails.com
SUMMARY:Live Music Sunset Sail w/ Mekiel Rueben
DESCRIPTION:Mekiel Reuben Saxophonist Extraordinaire recording artist\, former sax man with legendary Ike Turner and the Kings of Rhythms recorded live 2002 Montreux jazz festival\, Switzerland\, toured with Eek a Mouse\, The Itals and Ras Michael.(Los Angeles reggae scene) Back up band for Marcia Griffith\, Leroy Smart\, Daddy Uroy\, and a host of others You can find his music on YouTube\, Spotify\, iTunes and Amazon.
URL:https://lyricsails.com/event/live-music-sunset-sail-w-mekiel-rueben-53/
END:VEVENT
BEGIN:VEVENT
DTSTART;TZID=America/Puerto_Rico:20260201T163000
DTEND;TZID=America/Puerto_Rico:20260201T190000
DTSTAMP:20260425T064511
CREATED:20251025T144917Z
LAST-MODIFIED:20251025T144917Z
UID:10553-1769963400-1769972400@lyricsails.com
SUMMARY:Live Music Sunset Sail w/ Steve Katz
DESCRIPTION:Enjoy the instrumental acoustic guitar sounds of accomplished St. Croix musician\, Steve Katz. He can be seen at just about every venue on the island\, playing his fusion of Classical\, Spanish\, Latin and Middle Eastern music. Katz has played with many well-known musicians around the world\, and brings his own diverse experiences into his unique compositions. In addition to regular appearances around St. Croix\, Katz is also available for special events and private concerts. Please visit stevenkatzmusic.com for more information on where to purchase CDs\, music downloads\, his upcoming gigs and more about the music.
URL:https://lyricsails.com/event/live-music-sunset-sail-w-steve-katz-26/
END:VEVENT
BEGIN:VEVENT
DTSTART;TZID=America/Puerto_Rico:20260131T163000
DTEND;TZID=America/Puerto_Rico:20260131T190000
DTSTAMP:20260425T064511
CREATED:20251025T144917Z
LAST-MODIFIED:20251025T144917Z
UID:10552-1769877000-1769886000@lyricsails.com
SUMMARY:Live Music Sunset Sail w/ Mercy Child
DESCRIPTION:Mercy Child combines soulful vocals and finger-on-the-pulse guitar playing to his powerful live performances. Influenced by classic rock\, blues\, jazz and folk from the 60’s to present – he performs over 350 song titles\, including 6 original CDs. His string bending capabilities provide depth and originality to familiar covers\, leaving the audience wanting more.
URL:https://lyricsails.com/event/live-music-sunset-sail-w-mercy-child-104/
END:VEVENT
BEGIN:VEVENT
DTSTART;TZID=America/Puerto_Rico:20260130T163000
DTEND;TZID=America/Puerto_Rico:20260130T190000
DTSTAMP:20260425T064511
CREATED:20251025T144917Z
LAST-MODIFIED:20251025T144917Z
UID:10551-1769790600-1769799600@lyricsails.com
SUMMARY:Live Music Sunset Sail w/ Gyasi Clarke
DESCRIPTION:St Croix native Gyasi Clarke plays acoustic guitar accompanied by his melodic\, soulful vocals. One of the island’s favorite young musicians!
URL:https://lyricsails.com/event/live-music-sunset-sail-w-gyasi-clarke-59/
END:VEVENT
BEGIN:VEVENT
DTSTART;TZID=America/Puerto_Rico:20260129T163000
DTEND;TZID=America/Puerto_Rico:20260129T190000
DTSTAMP:20260425T064511
CREATED:20251025T144917Z
LAST-MODIFIED:20251025T144917Z
UID:10550-1769704200-1769713200@lyricsails.com
SUMMARY:Live Music Sunset Sail w/ Danny Draher
DESCRIPTION:
URL:https://lyricsails.com/event/live-music-sunset-sail-w-danny-draher-21/
END:VEVENT
BEGIN:VEVENT
DTSTART;TZID=America/Puerto_Rico:20260128T163000
DTEND;TZID=America/Puerto_Rico:20260128T190000
DTSTAMP:20260425T064511
CREATED:20251025T144916Z
LAST-MODIFIED:20251025T144916Z
UID:10549-1769617800-1769626800@lyricsails.com
SUMMARY:Live Music w/ Kim Wentzel
DESCRIPTION:Kim Wentzel is an acoustic guitarist and vocalist performing at various venues on St Croix.  Her musical style varies from classic rock to contemporary hits\, focusing on female vocalists  such as Fleetwood Mac\, Dua Lipa\, Patty Griffin\, Tracy Chapman and Indigo Girls.  With a blend of folk\, rock\, and country favorites\, ranging from ballands to dance hits\, her music can complement any event.
URL:https://lyricsails.com/event/live-music-w-kim-wentzel-22/
END:VEVENT
BEGIN:VEVENT
DTSTART;TZID=America/Puerto_Rico:20260127T163000
DTEND;TZID=America/Puerto_Rico:20260127T190000
DTSTAMP:20260425T064511
CREATED:20251025T144717Z
LAST-MODIFIED:20251025T144717Z
UID:10548-1769531400-1769540400@lyricsails.com
SUMMARY:Live Music w/ Mama's Black Sheep
DESCRIPTION:
URL:https://lyricsails.com/event/live-music-w-mamas-black-sheep/
END:VEVENT
BEGIN:VEVENT
DTSTART;TZID=America/Puerto_Rico:20260126T163000
DTEND;TZID=America/Puerto_Rico:20260126T190000
DTSTAMP:20260425T064511
CREATED:20251025T144717Z
LAST-MODIFIED:20251025T144717Z
UID:10547-1769445000-1769454000@lyricsails.com
SUMMARY:Live Music Sunset Sail w/ Mekiel Rueben
DESCRIPTION:Mekiel Reuben Saxophonist Extraordinaire recording artist\, former sax man with legendary Ike Turner and the Kings of Rhythms recorded live 2002 Montreux jazz festival\, Switzerland\, toured with Eek a Mouse\, The Itals and Ras Michael.(Los Angeles reggae scene) Back up band for Marcia Griffith\, Leroy Smart\, Daddy Uroy\, and a host of others You can find his music on YouTube\, Spotify\, iTunes and Amazon.
URL:https://lyricsails.com/event/live-music-sunset-sail-w-mekiel-rueben-52/
END:VEVENT
BEGIN:VEVENT
DTSTART;TZID=America/Puerto_Rico:20260125T163000
DTEND;TZID=America/Puerto_Rico:20260125T190000
DTSTAMP:20260425T064511
CREATED:20251025T144717Z
LAST-MODIFIED:20251025T144717Z
UID:10546-1769358600-1769367600@lyricsails.com
SUMMARY:Live Music Sunset Sail w/ Adrian
DESCRIPTION:Adrian plays high energy folk/electronica guitar that is fun to listen and dance to!
URL:https://lyricsails.com/event/live-music-sunset-sail-w-adrian-26/
END:VEVENT
BEGIN:VEVENT
DTSTART;TZID=America/Puerto_Rico:20260124T163000
DTEND;TZID=America/Puerto_Rico:20260124T190000
DTSTAMP:20260425T064511
CREATED:20251025T144717Z
LAST-MODIFIED:20251025T144717Z
UID:10545-1769272200-1769281200@lyricsails.com
SUMMARY:Live Music Sunset Sail w/ Mercy Child
DESCRIPTION:Mercy Child combines soulful vocals and finger-on-the-pulse guitar playing to his powerful live performances. Influenced by classic rock\, blues\, jazz and folk from the 60’s to present – he performs over 350 song titles\, including 6 original CDs. His string bending capabilities provide depth and originality to familiar covers\, leaving the audience wanting more.
URL:https://lyricsails.com/event/live-music-sunset-sail-w-mercy-child-103/
END:VEVENT
BEGIN:VEVENT
DTSTART;TZID=America/Puerto_Rico:20260123T163000
DTEND;TZID=America/Puerto_Rico:20260123T190000
DTSTAMP:20260425T064511
CREATED:20251025T144716Z
LAST-MODIFIED:20251025T144716Z
UID:10544-1769185800-1769194800@lyricsails.com
SUMMARY:Live Music Sunset Sail w/ Gyasi Clarke
DESCRIPTION:St Croix native Gyasi Clarke plays acoustic guitar accompanied by his melodic\, soulful vocals. One of the island’s favorite young musicians!
URL:https://lyricsails.com/event/live-music-sunset-sail-w-gyasi-clarke-58/
END:VEVENT
BEGIN:VEVENT
DTSTART;TZID=America/Puerto_Rico:20260122T163000
DTEND;TZID=America/Puerto_Rico:20260122T190000
DTSTAMP:20260425T064511
CREATED:20251025T144517Z
LAST-MODIFIED:20251025T144517Z
UID:10543-1769099400-1769108400@lyricsails.com
SUMMARY:Live Music Sunset Sail w/ Pete Leske
DESCRIPTION:Pete plays a soulful mix of eclectic favorites from blues to rock to pop.
URL:https://lyricsails.com/event/live-music-sunset-sail-w-pete-leske-8/
END:VEVENT
BEGIN:VEVENT
DTSTART;TZID=America/Puerto_Rico:20260121T163000
DTEND;TZID=America/Puerto_Rico:20260121T190000
DTSTAMP:20260425T064511
CREATED:20251025T144517Z
LAST-MODIFIED:20251025T144517Z
UID:10542-1769013000-1769022000@lyricsails.com
SUMMARY:Live Music w/ Kim Wentzel
DESCRIPTION:Kim Wentzel is an acoustic guitarist and vocalist performing at various venues on St Croix.  Her musical style varies from classic rock to contemporary hits\, focusing on female vocalists  such as Fleetwood Mac\, Dua Lipa\, Patty Griffin\, Tracy Chapman and Indigo Girls.  With a blend of folk\, rock\, and country favorites\, ranging from ballands to dance hits\, her music can complement any event.
URL:https://lyricsails.com/event/live-music-w-kim-wentzel-21/
END:VEVENT
BEGIN:VEVENT
DTSTART;TZID=America/Puerto_Rico:20260120T163000
DTEND;TZID=America/Puerto_Rico:20260120T190000
DTSTAMP:20260425T064511
CREATED:20251025T144517Z
LAST-MODIFIED:20251025T144517Z
UID:10541-1768926600-1768935600@lyricsails.com
SUMMARY:Live Music Sunset Sail w/ Mercy Child
DESCRIPTION:Mercy Child combines soulful vocals and finger-on-the-pulse guitar playing to his powerful live performances. Influenced by classic rock\, blues\, jazz and folk from the 60’s to present – he performs over 350 song titles\, including 6 original CDs. His string bending capabilities provide depth and originality to familiar covers\, leaving the audience wanting more.
URL:https://lyricsails.com/event/live-music-sunset-sail-w-mercy-child-102/
END:VEVENT
BEGIN:VEVENT
DTSTART;TZID=America/Puerto_Rico:20260119T163000
DTEND;TZID=America/Puerto_Rico:20260119T190000
DTSTAMP:20260425T064511
CREATED:20251025T144517Z
LAST-MODIFIED:20251025T144517Z
UID:10540-1768840200-1768849200@lyricsails.com
SUMMARY:Live Music Sunset Sail w/ Mekiel Rueben
DESCRIPTION:Mekiel Reuben Saxophonist Extraordinaire recording artist\, former sax man with legendary Ike Turner and the Kings of Rhythms recorded live 2002 Montreux jazz festival\, Switzerland\, toured with Eek a Mouse\, The Itals and Ras Michael.(Los Angeles reggae scene) Back up band for Marcia Griffith\, Leroy Smart\, Daddy Uroy\, and a host of others You can find his music on YouTube\, Spotify\, iTunes and Amazon.
URL:https://lyricsails.com/event/live-music-sunset-sail-w-mekiel-rueben-51/
END:VEVENT
BEGIN:VEVENT
DTSTART;TZID=America/Puerto_Rico:20260118T163000
DTEND;TZID=America/Puerto_Rico:20260118T190000
DTSTAMP:20260425T064511
CREATED:20251025T144516Z
LAST-MODIFIED:20251025T144516Z
UID:10539-1768753800-1768762800@lyricsails.com
SUMMARY:Live Music Sunset Sail w/ Steve Katz
DESCRIPTION:Enjoy the instrumental acoustic guitar sounds of accomplished St. Croix musician\, Steve Katz. He can be seen at just about every venue on the island\, playing his fusion of Classical\, Spanish\, Latin and Middle Eastern music. Katz has played with many well-known musicians around the world\, and brings his own diverse experiences into his unique compositions. In addition to regular appearances around St. Croix\, Katz is also available for special events and private concerts. Please visit stevenkatzmusic.com for more information on where to purchase CDs\, music downloads\, his upcoming gigs and more about the music.
URL:https://lyricsails.com/event/live-music-sunset-sail-w-steve-katz-25/
END:VEVENT
BEGIN:VEVENT
DTSTART;TZID=America/Puerto_Rico:20260117T163000
DTEND;TZID=America/Puerto_Rico:20260117T190000
DTSTAMP:20260425T064511
CREATED:20251025T144317Z
LAST-MODIFIED:20251025T144317Z
UID:10538-1768667400-1768676400@lyricsails.com
SUMMARY:Live Music Sunset Sail w/ Mercy Child
DESCRIPTION:Mercy Child combines soulful vocals and finger-on-the-pulse guitar playing to his powerful live performances. Influenced by classic rock\, blues\, jazz and folk from the 60’s to present – he performs over 350 song titles\, including 6 original CDs. His string bending capabilities provide depth and originality to familiar covers\, leaving the audience wanting more.
URL:https://lyricsails.com/event/live-music-sunset-sail-w-mercy-child-101/
END:VEVENT
BEGIN:VEVENT
DTSTART;TZID=America/Puerto_Rico:20260116T163000
DTEND;TZID=America/Puerto_Rico:20260116T190000
DTSTAMP:20260425T064511
CREATED:20251025T144317Z
LAST-MODIFIED:20251025T144317Z
UID:10537-1768581000-1768590000@lyricsails.com
SUMMARY:Live Music Sunset Sail w/ Gyasi Clarke
DESCRIPTION:St Croix native Gyasi Clarke plays acoustic guitar accompanied by his melodic\, soulful vocals. One of the island’s favorite young musicians!
URL:https://lyricsails.com/event/live-music-sunset-sail-w-gyasi-clarke-57/
END:VEVENT
BEGIN:VEVENT
DTSTART;TZID=America/Puerto_Rico:20260115T163000
DTEND;TZID=America/Puerto_Rico:20260115T190000
DTSTAMP:20260425T064511
CREATED:20251025T144317Z
LAST-MODIFIED:20251025T144317Z
UID:10536-1768494600-1768503600@lyricsails.com
SUMMARY:Live Music Sunset Sail w/ Danny Draher
DESCRIPTION:
URL:https://lyricsails.com/event/live-music-sunset-sail-w-danny-draher-20/
END:VEVENT
BEGIN:VEVENT
DTSTART;TZID=America/Puerto_Rico:20260114T160000
DTEND;TZID=America/Puerto_Rico:20260114T183000
DTSTAMP:20260425T064511
CREATED:20251025T144317Z
LAST-MODIFIED:20251025T144317Z
UID:10535-1768406400-1768415400@lyricsails.com
SUMMARY:Live Music w/ Kim Wentzel
DESCRIPTION:Kim Wentzel is an acoustic guitarist and vocalist performing at various venues on St Croix.  Her musical style varies from classic rock to contemporary hits\, focusing on female vocalists  such as Fleetwood Mac\, Dua Lipa\, Patty Griffin\, Tracy Chapman and Indigo Girls.  With a blend of folk\, rock\, and country favorites\, ranging from ballands to dance hits\, her music can complement any event.
URL:https://lyricsails.com/event/live-music-w-kim-wentzel-20/
END:VEVENT
BEGIN:VEVENT
DTSTART;TZID=America/Puerto_Rico:20260113T160000
DTEND;TZID=America/Puerto_Rico:20260113T183000
DTSTAMP:20260425T064511
CREATED:20251025T144316Z
LAST-MODIFIED:20251025T144316Z
UID:10534-1768320000-1768329000@lyricsails.com
SUMMARY:Live Music Sunset Sail w/ Mercy Child
DESCRIPTION:Mercy Child combines soulful vocals and finger-on-the-pulse guitar playing to his powerful live performances. Influenced by classic rock\, blues\, jazz and folk from the 60’s to present – he performs over 350 song titles\, including 6 original CDs. His string bending capabilities provide depth and originality to familiar covers\, leaving the audience wanting more.
URL:https://lyricsails.com/event/live-music-sunset-sail-w-mercy-child-100/
END:VEVENT
BEGIN:VEVENT
DTSTART;TZID=America/Puerto_Rico:20260112T160000
DTEND;TZID=America/Puerto_Rico:20260112T183000
DTSTAMP:20260425T064511
CREATED:20251025T144123Z
LAST-MODIFIED:20251025T144123Z
UID:10533-1768233600-1768242600@lyricsails.com
SUMMARY:Live Music Sunset Sail w/ Mekiel Rueben
DESCRIPTION:Mekiel Reuben Saxophonist Extraordinaire recording artist\, former sax man with legendary Ike Turner and the Kings of Rhythms recorded live 2002 Montreux jazz festival\, Switzerland\, toured with Eek a Mouse\, The Itals and Ras Michael.(Los Angeles reggae scene) Back up band for Marcia Griffith\, Leroy Smart\, Daddy Uroy\, and a host of others You can find his music on YouTube\, Spotify\, iTunes and Amazon.
URL:https://lyricsails.com/event/live-music-sunset-sail-w-mekiel-rueben-50/
END:VEVENT
BEGIN:VEVENT
DTSTART;TZID=America/Puerto_Rico:20260111T160000
DTEND;TZID=America/Puerto_Rico:20260111T183000
DTSTAMP:20260425T064511
CREATED:20251025T144122Z
LAST-MODIFIED:20251025T144122Z
UID:10532-1768147200-1768156200@lyricsails.com
SUMMARY:Live Music Sunset Sail w/ Adrian
DESCRIPTION:Adrian plays high energy folk/electronica guitar that is fun to listen and dance to!
URL:https://lyricsails.com/event/live-music-sunset-sail-w-adrian-25/
END:VEVENT
BEGIN:VEVENT
DTSTART;TZID=America/Puerto_Rico:20260110T160000
DTEND;TZID=America/Puerto_Rico:20260110T183000
DTSTAMP:20260425T064511
CREATED:20251025T144122Z
LAST-MODIFIED:20251025T144122Z
UID:10531-1768060800-1768069800@lyricsails.com
SUMMARY:Live Music Sunset Sail w/ Mercy Child
DESCRIPTION:Mercy Child combines soulful vocals and finger-on-the-pulse guitar playing to his powerful live performances. Influenced by classic rock\, blues\, jazz and folk from the 60’s to present – he performs over 350 song titles\, including 6 original CDs. His string bending capabilities provide depth and originality to familiar covers\, leaving the audience wanting more.
URL:https://lyricsails.com/event/live-music-sunset-sail-w-mercy-child-99/
END:VEVENT
BEGIN:VEVENT
DTSTART;TZID=America/Puerto_Rico:20260109T160000
DTEND;TZID=America/Puerto_Rico:20260109T183000
DTSTAMP:20260425T064511
CREATED:20251025T144122Z
LAST-MODIFIED:20251025T144122Z
UID:10530-1767974400-1767983400@lyricsails.com
SUMMARY:Live Music Sunset Sail w/ Gyasi Clarke
DESCRIPTION:St Croix native Gyasi Clarke plays acoustic guitar accompanied by his melodic\, soulful vocals. One of the island’s favorite young musicians!
URL:https://lyricsails.com/event/live-music-sunset-sail-w-gyasi-clarke-56/
END:VEVENT
END:VCALENDAR