BEGIN:VCALENDAR
VERSION:2.0
PRODID:-//Lyric Sails | St Croix sunset sail - ECPv6.13.2.1//NONSGML v1.0//EN
CALSCALE:GREGORIAN
METHOD:PUBLISH
X-ORIGINAL-URL:https://lyricsails.com
X-WR-CALDESC:Events for Lyric Sails | St Croix sunset sail
REFRESH-INTERVAL;VALUE=DURATION:PT1H
X-Robots-Tag:noindex
X-PUBLISHED-TTL:PT1H
BEGIN:VTIMEZONE
TZID:America/Puerto_Rico
BEGIN:STANDARD
TZOFFSETFROM:-0400
TZOFFSETTO:-0400
TZNAME:AST
DTSTART:20260101T000000
END:STANDARD
END:VTIMEZONE
BEGIN:VEVENT
DTSTART;TZID=America/Puerto_Rico:20260325T163000
DTEND;TZID=America/Puerto_Rico:20260325T190000
DTSTAMP:20260424T125228
CREATED:20251025T151735Z
LAST-MODIFIED:20251025T151735Z
UID:10604-1774456200-1774465200@lyricsails.com
SUMMARY:Live Music w/ Kim Wentzel
DESCRIPTION:Kim Wentzel is an acoustic guitarist and vocalist performing at various venues on St Croix.  Her musical style varies from classic rock to contemporary hits\, focusing on female vocalists  such as Fleetwood Mac\, Dua Lipa\, Patty Griffin\, Tracy Chapman and Indigo Girls.  With a blend of folk\, rock\, and country favorites\, ranging from ballands to dance hits\, her music can complement any event.
URL:https://lyricsails.com/event/live-music-w-kim-wentzel-30/
END:VEVENT
BEGIN:VEVENT
DTSTART;TZID=America/Puerto_Rico:20260326T163000
DTEND;TZID=America/Puerto_Rico:20260326T190000
DTSTAMP:20260424T125228
CREATED:20251025T151735Z
LAST-MODIFIED:20251025T151735Z
UID:10605-1774542600-1774551600@lyricsails.com
SUMMARY:Live Music Sunset Sail w/ Pete Leske
DESCRIPTION:Pete plays a soulful mix of eclectic favorites from blues to rock to pop.
URL:https://lyricsails.com/event/live-music-sunset-sail-w-pete-leske-12/
END:VEVENT
BEGIN:VEVENT
DTSTART;TZID=America/Puerto_Rico:20260327T163000
DTEND;TZID=America/Puerto_Rico:20260327T190000
DTSTAMP:20260424T125228
CREATED:20251025T151735Z
LAST-MODIFIED:20251025T151735Z
UID:10606-1774629000-1774638000@lyricsails.com
SUMMARY:Live Music Sunset Sail w/ Gyasi Clarke
DESCRIPTION:St Croix native Gyasi Clarke plays acoustic guitar accompanied by his melodic\, soulful vocals. One of the island’s favorite young musicians!
URL:https://lyricsails.com/event/live-music-sunset-sail-w-gyasi-clarke-67/
END:VEVENT
BEGIN:VEVENT
DTSTART;TZID=America/Puerto_Rico:20260328T163000
DTEND;TZID=America/Puerto_Rico:20260328T190000
DTSTAMP:20260424T125228
CREATED:20251025T151735Z
LAST-MODIFIED:20251025T151735Z
UID:10607-1774715400-1774724400@lyricsails.com
SUMMARY:Live Music Sunset Sail w/ Mercy Child
DESCRIPTION:Mercy Child combines soulful vocals and finger-on-the-pulse guitar playing to his powerful live performances. Influenced by classic rock\, blues\, jazz and folk from the 60’s to present – he performs over 350 song titles\, including 6 original CDs. His string bending capabilities provide depth and originality to familiar covers\, leaving the audience wanting more.
URL:https://lyricsails.com/event/live-music-sunset-sail-w-mercy-child-120/
END:VEVENT
BEGIN:VEVENT
DTSTART;TZID=America/Puerto_Rico:20260329T163000
DTEND;TZID=America/Puerto_Rico:20260329T190000
DTSTAMP:20260424T125228
CREATED:20251025T151935Z
LAST-MODIFIED:20251025T151935Z
UID:10608-1774801800-1774810800@lyricsails.com
SUMMARY:Live Music Sunset Sail w/ Steve Katz
DESCRIPTION:Enjoy the instrumental acoustic guitar sounds of accomplished St. Croix musician\, Steve Katz. He can be seen at just about every venue on the island\, playing his fusion of Classical\, Spanish\, Latin and Middle Eastern music. Katz has played with many well-known musicians around the world\, and brings his own diverse experiences into his unique compositions. In addition to regular appearances around St. Croix\, Katz is also available for special events and private concerts. Please visit stevenkatzmusic.com for more information on where to purchase CDs\, music downloads\, his upcoming gigs and more about the music.
URL:https://lyricsails.com/event/live-music-sunset-sail-w-steve-katz-30/
END:VEVENT
BEGIN:VEVENT
DTSTART;TZID=America/Puerto_Rico:20260330T163000
DTEND;TZID=America/Puerto_Rico:20260330T190000
DTSTAMP:20260424T125228
CREATED:20251025T151935Z
LAST-MODIFIED:20251025T151935Z
UID:10609-1774888200-1774897200@lyricsails.com
SUMMARY:Live Music Sunset Sail w/ Mekiel Rueben
DESCRIPTION:Mekiel Reuben Saxophonist Extraordinaire recording artist\, former sax man with legendary Ike Turner and the Kings of Rhythms recorded live 2002 Montreux jazz festival\, Switzerland\, toured with Eek a Mouse\, The Itals and Ras Michael.(Los Angeles reggae scene) Back up band for Marcia Griffith\, Leroy Smart\, Daddy Uroy\, and a host of others You can find his music on YouTube\, Spotify\, iTunes and Amazon.
URL:https://lyricsails.com/event/live-music-sunset-sail-w-mekiel-rueben-60/
END:VEVENT
BEGIN:VEVENT
DTSTART;TZID=America/Puerto_Rico:20260331T163000
DTEND;TZID=America/Puerto_Rico:20260331T190000
DTSTAMP:20260424T125228
CREATED:20251025T151935Z
LAST-MODIFIED:20251025T151935Z
UID:10610-1774974600-1774983600@lyricsails.com
SUMMARY:Live Music Sunset Sail w/ Mercy Child
DESCRIPTION:Mercy Child combines soulful vocals and finger-on-the-pulse guitar playing to his powerful live performances. Influenced by classic rock\, blues\, jazz and folk from the 60’s to present – he performs over 350 song titles\, including 6 original CDs. His string bending capabilities provide depth and originality to familiar covers\, leaving the audience wanting more.
URL:https://lyricsails.com/event/live-music-sunset-sail-w-mercy-child-121/
END:VEVENT
BEGIN:VEVENT
DTSTART;TZID=America/Puerto_Rico:20260401T163000
DTEND;TZID=America/Puerto_Rico:20260401T190000
DTSTAMP:20260424T125228
CREATED:20251025T151935Z
LAST-MODIFIED:20251025T151935Z
UID:10611-1775061000-1775070000@lyricsails.com
SUMMARY:Live Music w/ Kim Wentzel
DESCRIPTION:Kim Wentzel is an acoustic guitarist and vocalist performing at various venues on St Croix.  Her musical style varies from classic rock to contemporary hits\, focusing on female vocalists  such as Fleetwood Mac\, Dua Lipa\, Patty Griffin\, Tracy Chapman and Indigo Girls.  With a blend of folk\, rock\, and country favorites\, ranging from ballands to dance hits\, her music can complement any event.
URL:https://lyricsails.com/event/live-music-w-kim-wentzel-31/
END:VEVENT
BEGIN:VEVENT
DTSTART;TZID=America/Puerto_Rico:20260402T163000
DTEND;TZID=America/Puerto_Rico:20260402T190000
DTSTAMP:20260424T125228
CREATED:20251025T151935Z
LAST-MODIFIED:20251025T151935Z
UID:10612-1775147400-1775156400@lyricsails.com
SUMMARY:Live Music Sunset Sail w/ Danny Draher
DESCRIPTION:
URL:https://lyricsails.com/event/live-music-sunset-sail-w-danny-draher-25/
END:VEVENT
BEGIN:VEVENT
DTSTART;TZID=America/Puerto_Rico:20260403T163000
DTEND;TZID=America/Puerto_Rico:20260403T190000
DTSTAMP:20260424T125228
CREATED:20251025T152135Z
LAST-MODIFIED:20251025T152135Z
UID:10613-1775233800-1775242800@lyricsails.com
SUMMARY:Live Music Sunset Sail w/ Gyasi Clarke
DESCRIPTION:St Croix native Gyasi Clarke plays acoustic guitar accompanied by his melodic\, soulful vocals. One of the island’s favorite young musicians!
URL:https://lyricsails.com/event/live-music-sunset-sail-w-gyasi-clarke-68/
END:VEVENT
BEGIN:VEVENT
DTSTART;TZID=America/Puerto_Rico:20260404T163000
DTEND;TZID=America/Puerto_Rico:20260404T190000
DTSTAMP:20260424T125228
CREATED:20251025T152135Z
LAST-MODIFIED:20251025T152135Z
UID:10614-1775320200-1775329200@lyricsails.com
SUMMARY:Live Music Sunset Sail w/ Mercy Child
DESCRIPTION:Mercy Child combines soulful vocals and finger-on-the-pulse guitar playing to his powerful live performances. Influenced by classic rock\, blues\, jazz and folk from the 60’s to present – he performs over 350 song titles\, including 6 original CDs. His string bending capabilities provide depth and originality to familiar covers\, leaving the audience wanting more.
URL:https://lyricsails.com/event/live-music-sunset-sail-w-mercy-child-122/
END:VEVENT
BEGIN:VEVENT
DTSTART;TZID=America/Puerto_Rico:20260405T163000
DTEND;TZID=America/Puerto_Rico:20260405T190000
DTSTAMP:20260424T125228
CREATED:20251025T152135Z
LAST-MODIFIED:20251025T152135Z
UID:10615-1775406600-1775415600@lyricsails.com
SUMMARY:Live Music Sunset Sail w/ Adrian
DESCRIPTION:Adrian plays high energy folk/electronica guitar that is fun to listen and dance to!
URL:https://lyricsails.com/event/live-music-sunset-sail-w-adrian-31/
END:VEVENT
BEGIN:VEVENT
DTSTART;TZID=America/Puerto_Rico:20260406T163000
DTEND;TZID=America/Puerto_Rico:20260406T190000
DTSTAMP:20260424T125228
CREATED:20251025T152135Z
LAST-MODIFIED:20251025T152135Z
UID:10616-1775493000-1775502000@lyricsails.com
SUMMARY:Live Music Sunset Sail w/ Mekiel Rueben
DESCRIPTION:Mekiel Reuben Saxophonist Extraordinaire recording artist\, former sax man with legendary Ike Turner and the Kings of Rhythms recorded live 2002 Montreux jazz festival\, Switzerland\, toured with Eek a Mouse\, The Itals and Ras Michael.(Los Angeles reggae scene) Back up band for Marcia Griffith\, Leroy Smart\, Daddy Uroy\, and a host of others You can find his music on YouTube\, Spotify\, iTunes and Amazon.
URL:https://lyricsails.com/event/live-music-sunset-sail-w-mekiel-rueben-61/
END:VEVENT
BEGIN:VEVENT
DTSTART;TZID=America/Puerto_Rico:20260407T163000
DTEND;TZID=America/Puerto_Rico:20260407T190000
DTSTAMP:20260424T125228
CREATED:20251025T152136Z
LAST-MODIFIED:20251025T152136Z
UID:10617-1775579400-1775588400@lyricsails.com
SUMMARY:Live Music Sunset Sail w/ Mercy Child
DESCRIPTION:Mercy Child combines soulful vocals and finger-on-the-pulse guitar playing to his powerful live performances. Influenced by classic rock\, blues\, jazz and folk from the 60’s to present – he performs over 350 song titles\, including 6 original CDs. His string bending capabilities provide depth and originality to familiar covers\, leaving the audience wanting more.
URL:https://lyricsails.com/event/live-music-sunset-sail-w-mercy-child-123/
END:VEVENT
BEGIN:VEVENT
DTSTART;TZID=America/Puerto_Rico:20260408T163000
DTEND;TZID=America/Puerto_Rico:20260408T190000
DTSTAMP:20260424T125228
CREATED:20251025T152335Z
LAST-MODIFIED:20251025T152335Z
UID:10618-1775665800-1775674800@lyricsails.com
SUMMARY:Live Music w/ Kim Wentzel
DESCRIPTION:Kim Wentzel is an acoustic guitarist and vocalist performing at various venues on St Croix.  Her musical style varies from classic rock to contemporary hits\, focusing on female vocalists  such as Fleetwood Mac\, Dua Lipa\, Patty Griffin\, Tracy Chapman and Indigo Girls.  With a blend of folk\, rock\, and country favorites\, ranging from ballands to dance hits\, her music can complement any event.
URL:https://lyricsails.com/event/live-music-w-kim-wentzel-32/
END:VEVENT
BEGIN:VEVENT
DTSTART;TZID=America/Puerto_Rico:20260409T163000
DTEND;TZID=America/Puerto_Rico:20260409T190000
DTSTAMP:20260424T125228
CREATED:20251025T152335Z
LAST-MODIFIED:20251025T152335Z
UID:10619-1775752200-1775761200@lyricsails.com
SUMMARY:Live Music Sunset Sail w/ Pete Leske
DESCRIPTION:Pete plays a soulful mix of eclectic favorites from blues to rock to pop.
URL:https://lyricsails.com/event/live-music-sunset-sail-w-pete-leske-13/
END:VEVENT
BEGIN:VEVENT
DTSTART;TZID=America/Puerto_Rico:20260410T163000
DTEND;TZID=America/Puerto_Rico:20260410T190000
DTSTAMP:20260424T125229
CREATED:20251025T152335Z
LAST-MODIFIED:20251025T152335Z
UID:10620-1775838600-1775847600@lyricsails.com
SUMMARY:Live Music Sunset Sail w/ Gyasi Clarke
DESCRIPTION:St Croix native Gyasi Clarke plays acoustic guitar accompanied by his melodic\, soulful vocals. One of the island’s favorite young musicians!
URL:https://lyricsails.com/event/live-music-sunset-sail-w-gyasi-clarke-69/
END:VEVENT
BEGIN:VEVENT
DTSTART;TZID=America/Puerto_Rico:20260411T163000
DTEND;TZID=America/Puerto_Rico:20260411T190000
DTSTAMP:20260424T125229
CREATED:20251025T152336Z
LAST-MODIFIED:20251025T152336Z
UID:10621-1775925000-1775934000@lyricsails.com
SUMMARY:Live Music Sunset Sail w/ Mercy Child
DESCRIPTION:Mercy Child combines soulful vocals and finger-on-the-pulse guitar playing to his powerful live performances. Influenced by classic rock\, blues\, jazz and folk from the 60’s to present – he performs over 350 song titles\, including 6 original CDs. His string bending capabilities provide depth and originality to familiar covers\, leaving the audience wanting more.
URL:https://lyricsails.com/event/live-music-sunset-sail-w-mercy-child-124/
END:VEVENT
BEGIN:VEVENT
DTSTART;TZID=America/Puerto_Rico:20260412T163000
DTEND;TZID=America/Puerto_Rico:20260412T190000
DTSTAMP:20260424T125229
CREATED:20251025T152336Z
LAST-MODIFIED:20251025T152336Z
UID:10622-1776011400-1776020400@lyricsails.com
SUMMARY:Live Music Sunset Sail w/ Steve Katz
DESCRIPTION:Enjoy the instrumental acoustic guitar sounds of accomplished St. Croix musician\, Steve Katz. He can be seen at just about every venue on the island\, playing his fusion of Classical\, Spanish\, Latin and Middle Eastern music. Katz has played with many well-known musicians around the world\, and brings his own diverse experiences into his unique compositions. In addition to regular appearances around St. Croix\, Katz is also available for special events and private concerts. Please visit stevenkatzmusic.com for more information on where to purchase CDs\, music downloads\, his upcoming gigs and more about the music.
URL:https://lyricsails.com/event/live-music-sunset-sail-w-steve-katz-31/
END:VEVENT
BEGIN:VEVENT
DTSTART;TZID=America/Puerto_Rico:20260413T163000
DTEND;TZID=America/Puerto_Rico:20260413T190000
DTSTAMP:20260424T125229
CREATED:20251025T152535Z
LAST-MODIFIED:20251025T152535Z
UID:10623-1776097800-1776106800@lyricsails.com
SUMMARY:Live Music Sunset Sail w/ Mekiel Rueben
DESCRIPTION:Mekiel Reuben Saxophonist Extraordinaire recording artist\, former sax man with legendary Ike Turner and the Kings of Rhythms recorded live 2002 Montreux jazz festival\, Switzerland\, toured with Eek a Mouse\, The Itals and Ras Michael.(Los Angeles reggae scene) Back up band for Marcia Griffith\, Leroy Smart\, Daddy Uroy\, and a host of others You can find his music on YouTube\, Spotify\, iTunes and Amazon.
URL:https://lyricsails.com/event/live-music-sunset-sail-w-mekiel-rueben-62/
END:VEVENT
BEGIN:VEVENT
DTSTART;TZID=America/Puerto_Rico:20260414T163000
DTEND;TZID=America/Puerto_Rico:20260414T190000
DTSTAMP:20260424T125229
CREATED:20251025T152535Z
LAST-MODIFIED:20251025T152535Z
UID:10624-1776184200-1776193200@lyricsails.com
SUMMARY:Live Music Sunset Sail w/ Mercy Child
DESCRIPTION:Mercy Child combines soulful vocals and finger-on-the-pulse guitar playing to his powerful live performances. Influenced by classic rock\, blues\, jazz and folk from the 60’s to present – he performs over 350 song titles\, including 6 original CDs. His string bending capabilities provide depth and originality to familiar covers\, leaving the audience wanting more.
URL:https://lyricsails.com/event/live-music-sunset-sail-w-mercy-child-125/
END:VEVENT
BEGIN:VEVENT
DTSTART;TZID=America/Puerto_Rico:20260415T170000
DTEND;TZID=America/Puerto_Rico:20260415T193000
DTSTAMP:20260424T125229
CREATED:20251025T152535Z
LAST-MODIFIED:20251025T152535Z
UID:10625-1776272400-1776281400@lyricsails.com
SUMMARY:Live Music w/ Kim Wentzel
DESCRIPTION:Kim Wentzel is an acoustic guitarist and vocalist performing at various venues on St Croix.  Her musical style varies from classic rock to contemporary hits\, focusing on female vocalists  such as Fleetwood Mac\, Dua Lipa\, Patty Griffin\, Tracy Chapman and Indigo Girls.  With a blend of folk\, rock\, and country favorites\, ranging from ballands to dance hits\, her music can complement any event.
URL:https://lyricsails.com/event/live-music-w-kim-wentzel-33/
END:VEVENT
BEGIN:VEVENT
DTSTART;TZID=America/Puerto_Rico:20260416T170000
DTEND;TZID=America/Puerto_Rico:20260416T193000
DTSTAMP:20260424T125229
CREATED:20251025T152536Z
LAST-MODIFIED:20251025T152536Z
UID:10626-1776358800-1776367800@lyricsails.com
SUMMARY:Live Music Sunset Sail w/ Danny Draher
DESCRIPTION:
URL:https://lyricsails.com/event/live-music-sunset-sail-w-danny-draher-26/
END:VEVENT
BEGIN:VEVENT
DTSTART;TZID=America/Puerto_Rico:20260417T170000
DTEND;TZID=America/Puerto_Rico:20260417T193000
DTSTAMP:20260424T125229
CREATED:20251025T152536Z
LAST-MODIFIED:20251025T152536Z
UID:10627-1776445200-1776454200@lyricsails.com
SUMMARY:Live Music Sunset Sail w/ Gyasi Clarke
DESCRIPTION:St Croix native Gyasi Clarke plays acoustic guitar accompanied by his melodic\, soulful vocals. One of the island’s favorite young musicians!
URL:https://lyricsails.com/event/live-music-sunset-sail-w-gyasi-clarke-70/
END:VEVENT
BEGIN:VEVENT
DTSTART;TZID=America/Puerto_Rico:20260418T170000
DTEND;TZID=America/Puerto_Rico:20260418T193000
DTSTAMP:20260424T125229
CREATED:20251025T152735Z
LAST-MODIFIED:20251025T152735Z
UID:10628-1776531600-1776540600@lyricsails.com
SUMMARY:Live Music Sunset Sail w/ Mercy Child
DESCRIPTION:Mercy Child combines soulful vocals and finger-on-the-pulse guitar playing to his powerful live performances. Influenced by classic rock\, blues\, jazz and folk from the 60’s to present – he performs over 350 song titles\, including 6 original CDs. His string bending capabilities provide depth and originality to familiar covers\, leaving the audience wanting more.
URL:https://lyricsails.com/event/live-music-sunset-sail-w-mercy-child-126/
END:VEVENT
BEGIN:VEVENT
DTSTART;TZID=America/Puerto_Rico:20260419T170000
DTEND;TZID=America/Puerto_Rico:20260419T193000
DTSTAMP:20260424T125229
CREATED:20251025T152735Z
LAST-MODIFIED:20251025T152735Z
UID:10629-1776618000-1776627000@lyricsails.com
SUMMARY:Live Music Sunset Sail w/ Adrian
DESCRIPTION:Adrian plays high energy folk/electronica guitar that is fun to listen and dance to!
URL:https://lyricsails.com/event/live-music-sunset-sail-w-adrian-32/
END:VEVENT
BEGIN:VEVENT
DTSTART;TZID=America/Puerto_Rico:20260420T170000
DTEND;TZID=America/Puerto_Rico:20260420T193000
DTSTAMP:20260424T125229
CREATED:20251025T152736Z
LAST-MODIFIED:20251025T152736Z
UID:10630-1776704400-1776713400@lyricsails.com
SUMMARY:Live Music Sunset Sail w/ Mekiel Rueben
DESCRIPTION:Mekiel Reuben Saxophonist Extraordinaire recording artist\, former sax man with legendary Ike Turner and the Kings of Rhythms recorded live 2002 Montreux jazz festival\, Switzerland\, toured with Eek a Mouse\, The Itals and Ras Michael.(Los Angeles reggae scene) Back up band for Marcia Griffith\, Leroy Smart\, Daddy Uroy\, and a host of others You can find his music on YouTube\, Spotify\, iTunes and Amazon.
URL:https://lyricsails.com/event/live-music-sunset-sail-w-mekiel-rueben-63/
END:VEVENT
BEGIN:VEVENT
DTSTART;TZID=America/Puerto_Rico:20260421T170000
DTEND;TZID=America/Puerto_Rico:20260421T193000
DTSTAMP:20260424T125229
CREATED:20251025T152736Z
LAST-MODIFIED:20251025T152736Z
UID:10631-1776790800-1776799800@lyricsails.com
SUMMARY:Live Music Sunset Sail w/ Mercy Child
DESCRIPTION:Mercy Child combines soulful vocals and finger-on-the-pulse guitar playing to his powerful live performances. Influenced by classic rock\, blues\, jazz and folk from the 60’s to present – he performs over 350 song titles\, including 6 original CDs. His string bending capabilities provide depth and originality to familiar covers\, leaving the audience wanting more.
URL:https://lyricsails.com/event/live-music-sunset-sail-w-mercy-child-127/
END:VEVENT
BEGIN:VEVENT
DTSTART;TZID=America/Puerto_Rico:20260422T170000
DTEND;TZID=America/Puerto_Rico:20260422T193000
DTSTAMP:20260424T125229
CREATED:20251025T152736Z
LAST-MODIFIED:20251025T152736Z
UID:10632-1776877200-1776886200@lyricsails.com
SUMMARY:Live Music w/ Kim Wentzel
DESCRIPTION:Kim Wentzel is an acoustic guitarist and vocalist performing at various venues on St Croix.  Her musical style varies from classic rock to contemporary hits\, focusing on female vocalists  such as Fleetwood Mac\, Dua Lipa\, Patty Griffin\, Tracy Chapman and Indigo Girls.  With a blend of folk\, rock\, and country favorites\, ranging from ballands to dance hits\, her music can complement any event.
URL:https://lyricsails.com/event/live-music-w-kim-wentzel-34/
END:VEVENT
BEGIN:VEVENT
DTSTART;TZID=America/Puerto_Rico:20260423T170000
DTEND;TZID=America/Puerto_Rico:20260423T193000
DTSTAMP:20260424T125229
CREATED:20251025T152806Z
LAST-MODIFIED:20251025T152806Z
UID:10633-1776963600-1776972600@lyricsails.com
SUMMARY:Live Music Sunset Sail w/ Pete Leske
DESCRIPTION:Pete plays a soulful mix of eclectic favorites from blues to rock to pop.
URL:https://lyricsails.com/event/live-music-sunset-sail-w-pete-leske-14/
END:VEVENT
END:VCALENDAR