BEGIN:VCALENDAR
VERSION:2.0
PRODID:-//Lyric Sails | St Croix sunset sail - ECPv6.13.2.1//NONSGML v1.0//EN
CALSCALE:GREGORIAN
METHOD:PUBLISH
X-WR-CALNAME:Lyric Sails | St Croix sunset sail
X-ORIGINAL-URL:https://lyricsails.com
X-WR-CALDESC:Events for Lyric Sails | St Croix sunset sail
REFRESH-INTERVAL;VALUE=DURATION:PT1H
X-Robots-Tag:noindex
X-PUBLISHED-TTL:PT1H
BEGIN:VTIMEZONE
TZID:America/Puerto_Rico
BEGIN:STANDARD
TZOFFSETFROM:-0400
TZOFFSETTO:-0400
TZNAME:AST
DTSTART:20250101T000000
END:STANDARD
END:VTIMEZONE
BEGIN:VEVENT
DTSTART;TZID=America/Puerto_Rico:20251123T160000
DTEND;TZID=America/Puerto_Rico:20251123T183000
DTSTAMP:20260425T084447
CREATED:20251025T140756Z
LAST-MODIFIED:20251025T140756Z
UID:10484-1763913600-1763922600@lyricsails.com
SUMMARY:Live Music Sunset Sail w/ Steve Katz
DESCRIPTION:Enjoy the instrumental acoustic guitar sounds of accomplished St. Croix musician\, Steve Katz. He can be seen at just about every venue on the island\, playing his fusion of Classical\, Spanish\, Latin and Middle Eastern music. Katz has played with many well-known musicians around the world\, and brings his own diverse experiences into his unique compositions. In addition to regular appearances around St. Croix\, Katz is also available for special events and private concerts. Please visit stevenkatzmusic.com for more information on where to purchase CDs\, music downloads\, his upcoming gigs and more about the music.
URL:https://lyricsails.com/event/live-music-sunset-sail-w-steve-katz-21/
END:VEVENT
BEGIN:VEVENT
DTSTART;TZID=America/Puerto_Rico:20251122T160000
DTEND;TZID=America/Puerto_Rico:20251122T183000
DTSTAMP:20260425T084447
CREATED:20251025T140756Z
LAST-MODIFIED:20251025T140756Z
UID:10483-1763827200-1763836200@lyricsails.com
SUMMARY:Live Music Sunset Sail w/ Mercy Child
DESCRIPTION:Mercy Child combines soulful vocals and finger-on-the-pulse guitar playing to his powerful live performances. Influenced by classic rock\, blues\, jazz and folk from the 60’s to present – he performs over 350 song titles\, including 6 original CDs. His string bending capabilities provide depth and originality to familiar covers\, leaving the audience wanting more.
URL:https://lyricsails.com/event/live-music-sunset-sail-w-mercy-child-87/
END:VEVENT
BEGIN:VEVENT
DTSTART;TZID=America/Puerto_Rico:20251121T160000
DTEND;TZID=America/Puerto_Rico:20251121T183000
DTSTAMP:20260425T084447
CREATED:20251025T140755Z
LAST-MODIFIED:20251025T140755Z
UID:10482-1763740800-1763749800@lyricsails.com
SUMMARY:Live Music Sunset Sail w/ Gyasi Clarke
DESCRIPTION:St Croix native Gyasi Clarke plays acoustic guitar accompanied by his melodic\, soulful vocals. One of the island’s favorite young musicians!
URL:https://lyricsails.com/event/live-music-sunset-sail-w-gyasi-clarke-49/
END:VEVENT
BEGIN:VEVENT
DTSTART;TZID=America/Puerto_Rico:20251120T160000
DTEND;TZID=America/Puerto_Rico:20251120T183000
DTSTAMP:20260425T084447
CREATED:20251025T140755Z
LAST-MODIFIED:20251025T140755Z
UID:10481-1763654400-1763663400@lyricsails.com
SUMMARY:Live Music Sunset Sail w/ Pete Leske
DESCRIPTION:Pete plays a soulful mix of eclectic favorites from blues to rock to pop.
URL:https://lyricsails.com/event/live-music-sunset-sail-w-pete-leske-4/
END:VEVENT
BEGIN:VEVENT
DTSTART;TZID=America/Puerto_Rico:20251119T160000
DTEND;TZID=America/Puerto_Rico:20251119T183000
DTSTAMP:20260425T084447
CREATED:20251025T140755Z
LAST-MODIFIED:20251025T140755Z
UID:10480-1763568000-1763577000@lyricsails.com
SUMMARY:Live Music w/ Kim Wentzel
DESCRIPTION:Kim Wentzel is an acoustic guitarist and vocalist performing at various venues on St Croix.  Her musical style varies from classic rock to contemporary hits\, focusing on female vocalists  such as Fleetwood Mac\, Dua Lipa\, Patty Griffin\, Tracy Chapman and Indigo Girls.  With a blend of folk\, rock\, and country favorites\, ranging from ballands to dance hits\, her music can complement any event.
URL:https://lyricsails.com/event/live-music-w-kim-wentzel-12/
END:VEVENT
BEGIN:VEVENT
DTSTART;TZID=America/Puerto_Rico:20251118T160000
DTEND;TZID=America/Puerto_Rico:20251118T183000
DTSTAMP:20260425T084447
CREATED:20251025T140601Z
LAST-MODIFIED:20251025T140601Z
UID:10479-1763481600-1763490600@lyricsails.com
SUMMARY:Live Music Sunset Sail w/ Mercy Child
DESCRIPTION:Mercy Child combines soulful vocals and finger-on-the-pulse guitar playing to his powerful live performances. Influenced by classic rock\, blues\, jazz and folk from the 60’s to present – he performs over 350 song titles\, including 6 original CDs. His string bending capabilities provide depth and originality to familiar covers\, leaving the audience wanting more.
URL:https://lyricsails.com/event/live-music-sunset-sail-w-mercy-child-86/
END:VEVENT
BEGIN:VEVENT
DTSTART;TZID=America/Puerto_Rico:20251117T160000
DTEND;TZID=America/Puerto_Rico:20251117T183000
DTSTAMP:20260425T084447
CREATED:20251025T140601Z
LAST-MODIFIED:20251025T140601Z
UID:10478-1763395200-1763404200@lyricsails.com
SUMMARY:Live Music Sunset Sail w/ Mekiel Rueben
DESCRIPTION:Mekiel Reuben Saxophonist Extraordinaire recording artist\, former sax man with legendary Ike Turner and the Kings of Rhythms recorded live 2002 Montreux jazz festival\, Switzerland\, toured with Eek a Mouse\, The Itals and Ras Michael.(Los Angeles reggae scene) Back up band for Marcia Griffith\, Leroy Smart\, Daddy Uroy\, and a host of others You can find his music on YouTube\, Spotify\, iTunes and Amazon.
URL:https://lyricsails.com/event/live-music-sunset-sail-w-mekiel-rueben-42/
END:VEVENT
BEGIN:VEVENT
DTSTART;TZID=America/Puerto_Rico:20251116T160000
DTEND;TZID=America/Puerto_Rico:20251116T183000
DTSTAMP:20260425T084447
CREATED:20251025T140600Z
LAST-MODIFIED:20251025T140600Z
UID:10477-1763308800-1763317800@lyricsails.com
SUMMARY:Live Music Sunset Sail w/ Adrian
DESCRIPTION:Adrian plays high energy folk/electronica guitar that is fun to listen and dance to!
URL:https://lyricsails.com/event/live-music-sunset-sail-w-adrian-21/
END:VEVENT
BEGIN:VEVENT
DTSTART;TZID=America/Puerto_Rico:20251115T160000
DTEND;TZID=America/Puerto_Rico:20251115T183000
DTSTAMP:20260425T084447
CREATED:20251025T140600Z
LAST-MODIFIED:20251025T140600Z
UID:10476-1763222400-1763231400@lyricsails.com
SUMMARY:Live Music Sunset Sail w/ Mercy Child
DESCRIPTION:Mercy Child combines soulful vocals and finger-on-the-pulse guitar playing to his powerful live performances. Influenced by classic rock\, blues\, jazz and folk from the 60’s to present – he performs over 350 song titles\, including 6 original CDs. His string bending capabilities provide depth and originality to familiar covers\, leaving the audience wanting more.
URL:https://lyricsails.com/event/live-music-sunset-sail-w-mercy-child-85/
END:VEVENT
BEGIN:VEVENT
DTSTART;TZID=America/Puerto_Rico:20251114T160000
DTEND;TZID=America/Puerto_Rico:20251114T183000
DTSTAMP:20260425T084447
CREATED:20251025T140600Z
LAST-MODIFIED:20251025T140600Z
UID:10475-1763136000-1763145000@lyricsails.com
SUMMARY:Live Music Sunset Sail w/ Gyasi Clarke
DESCRIPTION:St Croix native Gyasi Clarke plays acoustic guitar accompanied by his melodic\, soulful vocals. One of the island’s favorite young musicians!
URL:https://lyricsails.com/event/live-music-sunset-sail-w-gyasi-clarke-48/
END:VEVENT
BEGIN:VEVENT
DTSTART;TZID=America/Puerto_Rico:20251113T160000
DTEND;TZID=America/Puerto_Rico:20251113T183000
DTSTAMP:20260425T084447
CREATED:20251025T140555Z
LAST-MODIFIED:20251025T140555Z
UID:10474-1763049600-1763058600@lyricsails.com
SUMMARY:Live Music Sunset Sail w/ Pete Leske
DESCRIPTION:Pete plays a soulful mix of eclectic favorites from blues to rock to pop.
URL:https://lyricsails.com/event/live-music-sunset-sail-w-pete-leske-3/
END:VEVENT
BEGIN:VEVENT
DTSTART;TZID=America/Puerto_Rico:20251112T160000
DTEND;TZID=America/Puerto_Rico:20251112T183000
DTSTAMP:20260425T084447
CREATED:20251025T140555Z
LAST-MODIFIED:20251025T140555Z
UID:10473-1762963200-1762972200@lyricsails.com
SUMMARY:Live Music w/ Kim Wentzel
DESCRIPTION:Kim Wentzel is an acoustic guitarist and vocalist performing at various venues on St Croix.  Her musical style varies from classic rock to contemporary hits\, focusing on female vocalists  such as Fleetwood Mac\, Dua Lipa\, Patty Griffin\, Tracy Chapman and Indigo Girls.  With a blend of folk\, rock\, and country favorites\, ranging from ballands to dance hits\, her music can complement any event.
URL:https://lyricsails.com/event/live-music-w-kim-wentzel-11/
END:VEVENT
BEGIN:VEVENT
DTSTART;TZID=America/Puerto_Rico:20251111T160000
DTEND;TZID=America/Puerto_Rico:20251111T183000
DTSTAMP:20260425T084447
CREATED:20251025T140555Z
LAST-MODIFIED:20251025T140555Z
UID:10472-1762876800-1762885800@lyricsails.com
SUMMARY:Live Music Sunset Sail w/ Mercy Child
DESCRIPTION:Mercy Child combines soulful vocals and finger-on-the-pulse guitar playing to his powerful live performances. Influenced by classic rock\, blues\, jazz and folk from the 60’s to present – he performs over 350 song titles\, including 6 original CDs. His string bending capabilities provide depth and originality to familiar covers\, leaving the audience wanting more.
URL:https://lyricsails.com/event/live-music-sunset-sail-w-mercy-child-84/
END:VEVENT
BEGIN:VEVENT
DTSTART;TZID=America/Puerto_Rico:20251110T160000
DTEND;TZID=America/Puerto_Rico:20251110T183000
DTSTAMP:20260425T084447
CREATED:20251025T140554Z
LAST-MODIFIED:20251025T140554Z
UID:10471-1762790400-1762799400@lyricsails.com
SUMMARY:Live Music Sunset Sail w/ Mekiel Rueben
DESCRIPTION:Mekiel Reuben Saxophonist Extraordinaire recording artist\, former sax man with legendary Ike Turner and the Kings of Rhythms recorded live 2002 Montreux jazz festival\, Switzerland\, toured with Eek a Mouse\, The Itals and Ras Michael.(Los Angeles reggae scene) Back up band for Marcia Griffith\, Leroy Smart\, Daddy Uroy\, and a host of others You can find his music on YouTube\, Spotify\, iTunes and Amazon.
URL:https://lyricsails.com/event/live-music-sunset-sail-w-mekiel-rueben-41/
END:VEVENT
BEGIN:VEVENT
DTSTART;TZID=America/Puerto_Rico:20251109T160000
DTEND;TZID=America/Puerto_Rico:20251109T183000
DTSTAMP:20260425T084447
CREATED:20251025T140554Z
LAST-MODIFIED:20251025T140554Z
UID:10470-1762704000-1762713000@lyricsails.com
SUMMARY:Live Music Sunset Sail w/ Steve Katz
DESCRIPTION:Enjoy the instrumental acoustic guitar sounds of accomplished St. Croix musician\, Steve Katz. He can be seen at just about every venue on the island\, playing his fusion of Classical\, Spanish\, Latin and Middle Eastern music. Katz has played with many well-known musicians around the world\, and brings his own diverse experiences into his unique compositions. In addition to regular appearances around St. Croix\, Katz is also available for special events and private concerts. Please visit stevenkatzmusic.com for more information on where to purchase CDs\, music downloads\, his upcoming gigs and more about the music.
URL:https://lyricsails.com/event/live-music-sunset-sail-w-steve-katz-20/
END:VEVENT
BEGIN:VEVENT
DTSTART;TZID=America/Puerto_Rico:20251108T160000
DTEND;TZID=America/Puerto_Rico:20251108T183000
DTSTAMP:20260425T084447
CREATED:20251025T140543Z
LAST-MODIFIED:20251025T140543Z
UID:10469-1762617600-1762626600@lyricsails.com
SUMMARY:Live Music Sunset Sail w/ Mercy Child
DESCRIPTION:Mercy Child combines soulful vocals and finger-on-the-pulse guitar playing to his powerful live performances. Influenced by classic rock\, blues\, jazz and folk from the 60’s to present – he performs over 350 song titles\, including 6 original CDs. His string bending capabilities provide depth and originality to familiar covers\, leaving the audience wanting more.
URL:https://lyricsails.com/event/live-music-sunset-sail-w-mercy-child-83/
END:VEVENT
BEGIN:VEVENT
DTSTART;TZID=America/Puerto_Rico:20251107T160000
DTEND;TZID=America/Puerto_Rico:20251107T183000
DTSTAMP:20260425T084447
CREATED:20251025T140543Z
LAST-MODIFIED:20251025T140543Z
UID:10468-1762531200-1762540200@lyricsails.com
SUMMARY:Live Music Sunset Sail w/ Gyasi Clarke
DESCRIPTION:St Croix native Gyasi Clarke plays acoustic guitar accompanied by his melodic\, soulful vocals. One of the island’s favorite young musicians!
URL:https://lyricsails.com/event/live-music-sunset-sail-w-gyasi-clarke-47/
END:VEVENT
BEGIN:VEVENT
DTSTART;TZID=America/Puerto_Rico:20251106T160000
DTEND;TZID=America/Puerto_Rico:20251106T183000
DTSTAMP:20260425T084447
CREATED:20251025T140543Z
LAST-MODIFIED:20251025T140543Z
UID:10467-1762444800-1762453800@lyricsails.com
SUMMARY:Live Music Sunset Sail w/ Pete Leske
DESCRIPTION:Pete plays a soulful mix of eclectic favorites from blues to rock to pop.
URL:https://lyricsails.com/event/live-music-sunset-sail-w-pete-leske-2/
END:VEVENT
BEGIN:VEVENT
DTSTART;TZID=America/Puerto_Rico:20251105T160000
DTEND;TZID=America/Puerto_Rico:20251105T183000
DTSTAMP:20260425T084447
CREATED:20251025T140543Z
LAST-MODIFIED:20251025T140543Z
UID:10466-1762358400-1762367400@lyricsails.com
SUMMARY:Live Music w/ Kim Wentzel
DESCRIPTION:Kim Wentzel is an acoustic guitarist and vocalist performing at various venues on St Croix.  Her musical style varies from classic rock to contemporary hits\, focusing on female vocalists  such as Fleetwood Mac\, Dua Lipa\, Patty Griffin\, Tracy Chapman and Indigo Girls.  With a blend of folk\, rock\, and country favorites\, ranging from ballands to dance hits\, her music can complement any event.
URL:https://lyricsails.com/event/live-music-w-kim-wentzel-10/
END:VEVENT
BEGIN:VEVENT
DTSTART;TZID=America/Puerto_Rico:20251104T160000
DTEND;TZID=America/Puerto_Rico:20251104T183000
DTSTAMP:20260425T084447
CREATED:20251025T140542Z
LAST-MODIFIED:20251025T140542Z
UID:10465-1762272000-1762281000@lyricsails.com
SUMMARY:Live Music Sunset Sail w/ Mercy Child
DESCRIPTION:Mercy Child combines soulful vocals and finger-on-the-pulse guitar playing to his powerful live performances. Influenced by classic rock\, blues\, jazz and folk from the 60’s to present – he performs over 350 song titles\, including 6 original CDs. His string bending capabilities provide depth and originality to familiar covers\, leaving the audience wanting more.
URL:https://lyricsails.com/event/live-music-sunset-sail-w-mercy-child-82/
END:VEVENT
BEGIN:VEVENT
DTSTART;TZID=America/Puerto_Rico:20251102T160000
DTEND;TZID=America/Puerto_Rico:20251102T183000
DTSTAMP:20260425T084447
CREATED:20251025T140540Z
LAST-MODIFIED:20251025T140540Z
UID:10464-1762099200-1762108200@lyricsails.com
SUMMARY:Live Music Sunset Sail w/ Steve Katz
DESCRIPTION:Enjoy the instrumental acoustic guitar sounds of accomplished St. Croix musician\, Steve Katz. He can be seen at just about every venue on the island\, playing his fusion of Classical\, Spanish\, Latin and Middle Eastern music. Katz has played with many well-known musicians around the world\, and brings his own diverse experiences into his unique compositions. In addition to regular appearances around St. Croix\, Katz is also available for special events and private concerts. Please visit stevenkatzmusic.com for more information on where to purchase CDs\, music downloads\, his upcoming gigs and more about the music.
URL:https://lyricsails.com/event/live-music-sunset-sail-w-steve-katz-19/
END:VEVENT
BEGIN:VEVENT
DTSTART;TZID=America/Puerto_Rico:20251101T160000
DTEND;TZID=America/Puerto_Rico:20251101T183000
DTSTAMP:20260425T084447
CREATED:20251025T140540Z
LAST-MODIFIED:20251025T140540Z
UID:10463-1762012800-1762021800@lyricsails.com
SUMMARY:Live Music Sunset Sail w/ Mercy Child
DESCRIPTION:Mercy Child combines soulful vocals and finger-on-the-pulse guitar playing to his powerful live performances. Influenced by classic rock\, blues\, jazz and folk from the 60’s to present – he performs over 350 song titles\, including 6 original CDs. His string bending capabilities provide depth and originality to familiar covers\, leaving the audience wanting more.
URL:https://lyricsails.com/event/live-music-sunset-sail-w-mercy-child-81/
END:VEVENT
BEGIN:VEVENT
DTSTART;TZID=America/Puerto_Rico:20251031T160000
DTEND;TZID=America/Puerto_Rico:20251031T183000
DTSTAMP:20260425T084447
CREATED:20251025T140540Z
LAST-MODIFIED:20251025T140540Z
UID:10462-1761926400-1761935400@lyricsails.com
SUMMARY:Live Music Sunset Sail w/ Gyasi Clarke
DESCRIPTION:St Croix native Gyasi Clarke plays acoustic guitar accompanied by his melodic\, soulful vocals. One of the island’s favorite young musicians!
URL:https://lyricsails.com/event/live-music-sunset-sail-w-gyasi-clarke-46/
END:VEVENT
BEGIN:VEVENT
DTSTART;TZID=America/Puerto_Rico:20251030T160000
DTEND;TZID=America/Puerto_Rico:20251030T183000
DTSTAMP:20260425T084447
CREATED:20251025T140537Z
LAST-MODIFIED:20251025T140537Z
UID:10461-1761840000-1761849000@lyricsails.com
SUMMARY:Live Music Sunset Sail w/ Pete Leske
DESCRIPTION:Pete plays a soulful mix of eclectic favorites from blues to rock to pop.
URL:https://lyricsails.com/event/live-music-sunset-sail-w-pete-leske/
END:VEVENT
BEGIN:VEVENT
DTSTART;TZID=America/Puerto_Rico:20250817T170000
DTEND;TZID=America/Puerto_Rico:20250817T193000
DTSTAMP:20260425T084447
CREATED:20250407T155354Z
LAST-MODIFIED:20250407T155354Z
UID:10455-1755450000-1755459000@lyricsails.com
SUMMARY:Live Music Sunset Sail w/ Steve Katz
DESCRIPTION:Enjoy the instrumental acoustic guitar sounds of accomplished St. Croix musician\, Steve Katz. He can be seen at just about every venue on the island\, playing his fusion of Classical\, Spanish\, Latin and Middle Eastern music. Katz has played with many well-known musicians around the world\, and brings his own diverse experiences into his unique compositions. In addition to regular appearances around St. Croix\, Katz is also available for special events and private concerts. Please visit stevenkatzmusic.com for more information on where to purchase CDs\, music downloads\, his upcoming gigs and more about the music.
URL:https://lyricsails.com/event/live-music-sunset-sail-w-steve-katz-18/
END:VEVENT
BEGIN:VEVENT
DTSTART;TZID=America/Puerto_Rico:20250816T170000
DTEND;TZID=America/Puerto_Rico:20250816T193000
DTSTAMP:20260425T084447
CREATED:20250407T155353Z
LAST-MODIFIED:20250407T155353Z
UID:10454-1755363600-1755372600@lyricsails.com
SUMMARY:Live Music Sunset Sail w/ Mercy Child
DESCRIPTION:Mercy Child combines soulful vocals and finger-on-the-pulse guitar playing to his powerful live performances. Influenced by classic rock\, blues\, jazz and folk from the 60’s to present – he performs over 350 song titles\, including 6 original CDs. His string bending capabilities provide depth and originality to familiar covers\, leaving the audience wanting more.
URL:https://lyricsails.com/event/live-music-sunset-sail-w-mercy-child-80/
END:VEVENT
BEGIN:VEVENT
DTSTART;TZID=America/Puerto_Rico:20250815T170000
DTEND;TZID=America/Puerto_Rico:20250815T193000
DTSTAMP:20260425T084447
CREATED:20250407T155353Z
LAST-MODIFIED:20250407T155353Z
UID:10453-1755277200-1755286200@lyricsails.com
SUMMARY:Live Music Sunset Sail w/ Gyasi Clarke
DESCRIPTION:St Croix native Gyasi Clarke plays acoustic guitar accompanied by his melodic\, soulful vocals. One of the island’s favorite young musicians!
URL:https://lyricsails.com/event/live-music-sunset-sail-w-gyasi-clarke-45/
END:VEVENT
BEGIN:VEVENT
DTSTART;TZID=America/Puerto_Rico:20250814T170000
DTEND;TZID=America/Puerto_Rico:20250814T193000
DTSTAMP:20260425T084447
CREATED:20250407T155353Z
LAST-MODIFIED:20250407T155353Z
UID:10452-1755190800-1755199800@lyricsails.com
SUMMARY:Live Music Sunset Sail w/ Jahnee Redlocks
DESCRIPTION:Classic roots reggae with Jahnee Redlocks. Mellow. Easy listening on the Caribbean Sea!!
URL:https://lyricsails.com/event/live-music-sunset-sail-w-jahnee-redlocks-40/
END:VEVENT
BEGIN:VEVENT
DTSTART;TZID=America/Puerto_Rico:20250813T170000
DTEND;TZID=America/Puerto_Rico:20250813T193000
DTSTAMP:20260425T084447
CREATED:20250407T155353Z
LAST-MODIFIED:20250407T155353Z
UID:10451-1755104400-1755113400@lyricsails.com
SUMMARY:Live Music Sunset Sail w/ Danny Draher
DESCRIPTION:Danny is a wonderful R&B\, Blues and Jazz pianist. Come be delighted by his soulful\, groovy tunes!
URL:https://lyricsails.com/event/live-music-sunset-sail-w-danny-draher-17/
END:VEVENT
BEGIN:VEVENT
DTSTART;TZID=America/Puerto_Rico:20250812T170000
DTEND;TZID=America/Puerto_Rico:20250812T193000
DTSTAMP:20260425T084447
CREATED:20250407T155153Z
LAST-MODIFIED:20250407T155153Z
UID:10450-1755018000-1755027000@lyricsails.com
SUMMARY:Live Music Sunset Sail w/ Mercy Child
DESCRIPTION:Mercy Child combines soulful vocals and finger-on-the-pulse guitar playing to his powerful live performances. Influenced by classic rock\, blues\, jazz and folk from the 60’s to present – he performs over 350 song titles\, including 6 original CDs. His string bending capabilities provide depth and originality to familiar covers\, leaving the audience wanting more.
URL:https://lyricsails.com/event/live-music-sunset-sail-w-mercy-child-79/
END:VEVENT
END:VCALENDAR