BEGIN:VCALENDAR
VERSION:2.0
PRODID:-//Lyric Sails | St Croix sunset sail - ECPv6.13.2.1//NONSGML v1.0//EN
CALSCALE:GREGORIAN
METHOD:PUBLISH
X-WR-CALNAME:Lyric Sails | St Croix sunset sail
X-ORIGINAL-URL:https://lyricsails.com
X-WR-CALDESC:Events for Lyric Sails | St Croix sunset sail
REFRESH-INTERVAL;VALUE=DURATION:PT1H
X-Robots-Tag:noindex
X-PUBLISHED-TTL:PT1H
BEGIN:VTIMEZONE
TZID:America/Puerto_Rico
BEGIN:STANDARD
TZOFFSETFROM:-0400
TZOFFSETTO:-0400
TZNAME:AST
DTSTART:20260101T000000
END:STANDARD
END:VTIMEZONE
BEGIN:VEVENT
DTSTART;TZID=America/Puerto_Rico:20260303T163000
DTEND;TZID=America/Puerto_Rico:20260303T190000
DTSTAMP:20260424T092946
CREATED:20251025T145953Z
LAST-MODIFIED:20251025T145953Z
UID:10582-1772555400-1772564400@lyricsails.com
SUMMARY:Live Music Sunset Sail w/ Mercy Child
DESCRIPTION:Mercy Child combines soulful vocals and finger-on-the-pulse guitar playing to his powerful live performances. Influenced by classic rock\, blues\, jazz and folk from the 60’s to present – he performs over 350 song titles\, including 6 original CDs. His string bending capabilities provide depth and originality to familiar covers\, leaving the audience wanting more.
URL:https://lyricsails.com/event/live-music-sunset-sail-w-mercy-child-113/
END:VEVENT
END:VCALENDAR