BEGIN:VCALENDAR
VERSION:2.0
PRODID:-//Lyric Sails | St Croix sunset sail - ECPv6.13.2.1//NONSGML v1.0//EN
CALSCALE:GREGORIAN
METHOD:PUBLISH
X-WR-CALNAME:Lyric Sails | St Croix sunset sail
X-ORIGINAL-URL:https://lyricsails.com
X-WR-CALDESC:Events for Lyric Sails | St Croix sunset sail
REFRESH-INTERVAL;VALUE=DURATION:PT1H
X-Robots-Tag:noindex
X-PUBLISHED-TTL:PT1H
BEGIN:VTIMEZONE
TZID:America/Puerto_Rico
BEGIN:STANDARD
TZOFFSETFROM:-0400
TZOFFSETTO:-0400
TZNAME:AST
DTSTART:20260101T000000
END:STANDARD
END:VTIMEZONE
BEGIN:VEVENT
DTSTART;TZID=America/Puerto_Rico:20260301T163000
DTEND;TZID=America/Puerto_Rico:20260301T190000
DTSTAMP:20260424T123815
CREATED:20251025T145953Z
LAST-MODIFIED:20251025T145953Z
UID:10580-1772382600-1772391600@lyricsails.com
SUMMARY:Live Music Sunset Sail w/ Steve Katz
DESCRIPTION:Enjoy the instrumental acoustic guitar sounds of accomplished St. Croix musician\, Steve Katz. He can be seen at just about every venue on the island\, playing his fusion of Classical\, Spanish\, Latin and Middle Eastern music. Katz has played with many well-known musicians around the world\, and brings his own diverse experiences into his unique compositions. In addition to regular appearances around St. Croix\, Katz is also available for special events and private concerts. Please visit stevenkatzmusic.com for more information on where to purchase CDs\, music downloads\, his upcoming gigs and more about the music.
URL:https://lyricsails.com/event/live-music-sunset-sail-w-steve-katz-28/
END:VEVENT
END:VCALENDAR