BEGIN:VCALENDAR
VERSION:2.0
PRODID:-//Lyric Sails | St Croix sunset sail - ECPv6.13.2.1//NONSGML v1.0//EN
CALSCALE:GREGORIAN
METHOD:PUBLISH
X-ORIGINAL-URL:https://lyricsails.com
X-WR-CALDESC:Events for Lyric Sails | St Croix sunset sail
REFRESH-INTERVAL;VALUE=DURATION:PT1H
X-Robots-Tag:noindex
X-PUBLISHED-TTL:PT1H
BEGIN:VTIMEZONE
TZID:America/Puerto_Rico
BEGIN:STANDARD
TZOFFSETFROM:-0400
TZOFFSETTO:-0400
TZNAME:AST
DTSTART:20260101T000000
END:STANDARD
END:VTIMEZONE
BEGIN:VEVENT
DTSTART;TZID=America/Puerto_Rico:20260226T163000
DTEND;TZID=America/Puerto_Rico:20260226T190000
DTSTAMP:20260424T093105
CREATED:20251025T145753Z
LAST-MODIFIED:20251025T145753Z
UID:10577-1772123400-1772132400@lyricsails.com
SUMMARY:Live Music Sunset Sail w/ Pete Leske
DESCRIPTION:Pete plays a soulful mix of eclectic favorites from blues to rock to pop.
URL:https://lyricsails.com/event/live-music-sunset-sail-w-pete-leske-10/
END:VEVENT
END:VCALENDAR